Workbook

Sheet ⑤Ⅱ_就労のための基本的事項（評価用）
A2: Ⅱ．就労のための基本的事項(本人用）
B4: 【 作業遂行 】
B6: 推奨項目
B8: チェック項目
B10: 推-1 | G10: 指示された手順に従って作業する
C12: 選択解除 | J12: A | Q12: B | X12: C | AE12: ?
H14: ① 対象者の自己評価
J15: 指示された手順に従って作業できる。 | Q15: 具体的に指示されれば、指示された手順に従ってだいたい作業できる。 | X15: 具体的に指示されても、指示された手順に従えない。 | AE15: 未経験・未確認・ 不明
G21: 評価の方法
AT26: =work!$E$53 | AV26: =REPT(""&CHAR(10)&"",INT(LEN(G25)/58)+(LEN(G25)-LEN(SUBSTITUTE(G25,CHAR(10),""))))
G28: 評価の理由（ストレングスの内容を含む）
AT30: =work!$E$54
G32: 支援・配慮の内容
AT34: =work!$E$55
B37: チェック項目
B39: 選-6 | G39: 作業環境、作業の内容、手順等の変更に対応する
C41: 選択解除 | J41: A | Q41: B | X41: C | AE41: ?
H43: ① 対象者の自己評価
J44: 変更があっても、指示に従って作業できる。 | Q44: 変更があっても、変更の内容を具体的に指示されれば、だいたい指示に従って作業できる。 | X44: 変更があると、変更の内容を具体的に指示されても、作業ができなくなる。 | AE44: 未経験・未確認・ 不明
G50: 評価の方法
AT55: =work!$E$77
G57: 評価の理由（ストレングスの内容を含む）
AT59: =work!$E$78
G61: 支援・配慮の内容
AT63: =work!$E$79
B65: チェック項目
B67: 選-7 | G67: 自分でミスを見つける
C69: 選択解除 | J69: A | Q69: B | X69: C | AE69: ?
H71: ① 対象者の自己評価
J72: 自ら作業の見直しを行い、ミスを見つけることができる。 | Q72: 作業の見直しを具体的に指示されれば、ミスを見つけることができる。 | X72: 作業の見直しを具体的に指示されても、ミスを見つけることができない。 | AE72: 未経験・未確認・ 不明
G78: 評価の方法
AT83: =work!$E$80
G85: 評価の理由（ストレングスの内容を含む）
AT87: =work!$E$81
G89: 支援・配慮の内容
AT91: =work!$E$82
B93: チェック項目
B95: 選-17 | G95: 自分からすすんで作業に取り組む
C97: 選択解除 | J97: A | Q97: B | X97: C | AE97: ?
H99: ① 対象者の自己評価
J100: どんな作業にも自分からすすんで取り組む。 | Q100: 関心のある作業は自分からすすんで取り組むが、それ以外の作業は指示を受ければ取り組む。 | X100: 自分からすすんで作業に取り組むことが少ない。 | AE100: 未経験・未確認・ 不明
G106: 評価の方法
AT111: =work!$E$110
G113: 評価の理由（ストレングスの内容を含む）
AT115: =work!$E$111
G117: 支援・配慮の内容
AT119: =work!$E$112
B121: 【 対人関係 】
B123: 推奨項目
B125: チェック項目
B127: 推-12 | G127: 相手や場に応じた挨拶や返事をする
C129: 選択解除 | J129: A | Q129: B | X129: C | AE129: ?
H131: ① 対象者の自己評価
J132: 相手や場に応じた挨拶・返事を自分からすすんでできる。 | Q132: 相手から挨拶されたり、返事を求められれば応じることができる。 | X132: 相手が挨拶をしたり返事を求めても応じることができない。 | AE132: 未経験・未確認・ 不明
G138: 評価の方法
AT143: =work!$E$158
G145: 評価の理由（ストレングスの内容を含む）
AT147: =work!$E$159
G149: 支援・配慮の内容
AT151: =work!$E$160
B153: チェック項目
B155: 推-16 | G155: 質問・報告（作業の終了、失敗等）・連絡・相談をする
C157: 選択解除 | J157: A | Q157: B | X157: C | AE157: ?
H159: ① 対象者の自己評価
J160: 質問・報告（作業の終了、失敗等）・連絡・相談を欠かさずすることができる。 | Q160: 質問・報告・連絡・相談を時々しないことがある。 | X160: 質問・報告・連絡・相談をしないことが多い、または必要以上にすることが多い。 | AE160: 未経験・未確認・ 不明
G166: 評価の方法
AT171: =work!$E$170
G173: 評価の理由（ストレングスの内容を含む）
AT175: =work!$E$171
G177: 支援・配慮の内容
AT179: =work!$E$172
B182: 備考欄
AT184: =work!$E$185

Sheet DB（Ⅰ）
A2: 項目 | B2: 問/項目 | C2: 回答
A3: 1_1 | B3: 有無 | C3: 0 | D3: =""
A4: 1_2 | B4: 回数 | C4: =#REF! -> #REF! | D4: =""
A5: 2_1 | B5: 勤務先 | C5: =#REF! -> #REF! | D5: =""
A6: 2_1 | B6: 仕事の内容 | C6: =#REF! -> #REF! | D6: =""
A7: 2_1 | B7: 雇用形態 | C7: =#REF! -> #REF! | D7: =""
A8: 2_1 | B8: 労働時間 | C8: =#REF! -> #REF! | D8: =""
A9: 2_1 | B9: 勤続期間 | C9: =#REF! -> #REF! | D9: =""
A10: 2_1 | B10: 障害の開示状況 | C10: =#REF! -> #REF! | D10: =""
A11: 2_1 | B11: 受けていた配慮 | C11: =#REF! -> #REF! | D11: =""
A12: 2_2 | B12: 勤務先 | C12: =#REF! -> #REF! | D12: =""
A13: 2_2 | B13: 仕事の内容 | C13: =#REF! -> #REF! | D13: =""
A14: 2_2 | B14: 雇用形態 | C14: =#REF! -> #REF! | D14: =""
A15: 2_2 | B15: 労働時間 | C15: =#REF! -> #REF! | D15: =""
... A39: 2_5 | B39: 受けていた配慮 | C39: =#REF! -> #REF! | D39: =""
A40: 3 | B40: 気に入っていた点 | C40: =#REF! -> #REF! | D40: =""
A41: 4 | B41: 合わなかった点 | C41: =#REF! -> #REF! | D41: =""
A42: 5_1 | B42: 退職理由 | C42: =#REF! -> #REF! | D42: =""
A43: 5_2 | B43: 退職理由 | C43: =#REF! -> #REF! | D43: =""
A44: 5_3 | B44: 退職理由 | C44: =#REF! -> #REF! | D44: =""
A45: 5_4 | B45: 退職理由 | C45: =#REF! -> #REF! | D45: =""
A46: 5_5 | B46: 退職理由 | C46: =#REF! -> #REF! | D46: =""
A47: 6_1 | B47: 一般就職 | C47: FALSE | D47: =""
A48: 6_2 | B48: 就労継続支援A型 | C48: FALSE | D48: =""
A49: 6_3 | B49: 就労移行支援 | C49: FALSE | D49: =""
A50: 6_4 | B50: 就労継続支援B型 | C50: FALSE | D50: =""
A51: 6_5 | B51: 職業訓練 | C51: FALSE | D51: =""
A52: 6_6 | B52: 職業準備支援 | C52: FALSE | D52: =""
A53: 6_7 | B53: その他 | C53: FALSE | D53: =""
A54: 6_7 | B54: その他_記述 | C54: =#REF! -> #REF! | D54: =""
A55: 6_8 | B55: 迷っている・わからない | C55: FALSE | D55: =""
A56: 7 | B56: 希望する理由 | C56: =#REF! -> #REF! | D56: =""
A57: 8_1 | B57: 希望の有無 | C57: 0 | D57: =""
A58: 8_2 | B58: 記述 | C58: =#REF! -> #REF! | D58: =""
A59: 9_1 | B59: 働く目的_記述 | C59: =#REF! -> #REF! | D59: =""
A60: 9_2 | B60: 生活のため | C60: FALSE | D60: =""
A61: 9_3 | B61: 娯楽のため | C61: FALSE | D61: =""
A62: 9_4 | B62: 楽しいから | C62: FALSE | D62: =""
A63: 9_5 | B63: 役立ちたいから | C63: FALSE | D63: =""
A64: 9_6 | B64: 能力を高めるため | C64: FALSE | D64: =""
A65: 9_7 | B65: 社会と関わるため | C65: FALSE | D65: =""
A66: 9_8 | B66: 周りを納得させる | C66: FALSE | D66: =""
A67: 9_9 | B67: 経験を積みたい | C67: FALSE | D67: =""
A68: 9_10 | B68: その他 | C68: FALSE | D68: =""
A69: 9_10 | B69: その他_記述 | C69: =#REF! -> #REF! | D69: =""
A70: 9_11 | B70: わからない | C70: FALSE | D70: =""
A71: 10_1 | B71: HW(障害者窓口) | C71: FALSE | D71: =""
A72: 10_2 | B72: HW(一般窓口) | C72: FALSE | D72: =""
A73: 10_3 | B73: 就労支援機関 | C73: FALSE | D73: =""
A74: 10_4 | B74: 求人情報 | C74: FALSE | D74: =""
A75: 10_5 | B75: 民間会社 | C75: FALSE | D75: =""
A76: 10_6 | B76: 縁故 | C76: FALSE | D76: =""
A77: 10_7 | B77: その他 | C77: FALSE | D77: =""
A78: 10_7 | B78: その他_記述 | C78: =#REF! -> #REF! | D78: =""
A79: 10_8 | B79: わからない | C79: FALSE | D79: =""
A80: 11 | B80: 障害の開示 | C80: 0 | D80: =""
A81: 12 | B81: 11の理由 | C81: =#REF! -> #REF! | D81: =""
A82: 13 | B82: 希望の仕事 | C82: =IF(#REF!="","",#REF!) -> #REF! | D82: =""
A83: 14 | B83: 経験の有無 | C83: =#REF! -> #REF! | D83: =""
A84: 15 | B84: 興味のある仕事 | C84: =#REF! -> #REF! | D84: =""
A85: 16 | B85: 免許や資格 | C85: =#REF! -> #REF! | D85: =""
A86: 17_1 | B86: 労働日数 | C86: 0 | D86: =""
A87: 17_1 | B87: その他_記述 | C87: =#REF! -> #REF! | D87: =""
A88: 17_2 | B88: 休日 | C88: 0 | D88: =""
A89: 17_2 | B89: 土日以外でも可 | C89: FALSE | D89: =""
A90: 17_2 | B90: その他_記述 | C90: =#REF! -> #REF! | D90: =""
A91: 17_3 | B91: 具体的な希望 | C91: =#REF! -> #REF! | D91: =""
A92: 18 | B92: 希望する雇用形態 | C92: 0 | D92: =""
A93: 19_1 | B93: 希望する賃金 | C93: 0 | D93: =""
A94: 19_1 | B94: 月給_記述 | C94: =#REF! -> #REF! | D94: =""
A95: 19_1 | B95: 時給_記述 | C95: =#REF! -> #REF! | D95: =""
A96: 19_1 | B96: 日給_記述 | C96: =#REF! -> #REF! | D96: =""
A97: 19_2 | B97: 障害年金の状況 | C97: =#REF! -> #REF! | D97: =""
A98: 20_1 | B98: 鉄道/バス | C98: FALSE | D98: =""
A99: 20_1 | B99: 時間 | C99: =#REF! -> #REF! | D99: =""
A100: 20_2 | B100: 車/バイク | C100: FALSE | D100: =""
A101: 20_2 | B101: 時間 | C101: =#REF! -> #REF! | D101: =""
A102: 20_3 | B102: 自転車 | C102: FALSE | D102: =""
A103: 20_3 | B103: 時間 | C103: =#REF! -> #REF! | D103: =""
A104: 20_4 | B104: 徒歩 | C104: FALSE | D104: =""
A105: 20_4 | B105: 時間 | C105: =#REF! -> #REF! | D105: =""
A106: 21_1 | B106: 仕事の内容 | C106: FALSE | D106: =""
A107: 21_2 | B107: 労働時間/日数 | C107: FALSE | D107: =""
A108: 21_3 | B108: 賃金 | C108: FALSE | D108: =""
A109: 21_4 | B109: 通勤 | C109: FALSE | D109: =""
A110: 21_5 | B110: 雇用形態 | C110: FALSE | D110: =""
A111: 21_6 | B111: 理解・配慮 | C111: FALSE | D111: =""
A112: 21_7 | B112: 人間環境 | C112: FALSE | D112: =""
A113: 21_8 | B113: その他 | C113: FALSE | D113: =""
A114: 21_8 | B114: その他_記述 | C114: =#REF! -> #REF! | D114: =""
A115: 21_9 | B115: 自由記述 | C115: =#REF! -> #REF! | D115: =""
A116: 22_1 | B116: 男性が多い | C116: FALSE | D116: =""
A117: 22_2 | B117: 女性が多い | C117: FALSE | D117: =""
A118: 22_3 | B118: 障害者が働いている | C118: FALSE | D118: =""
A119: 22_4 | B119: 年上が多い | C119: FALSE | D119: =""
A120: 22_5 | B120: 同年代が多い | C120: FALSE | D120: =""
A121: 22_6 | B121: 年下が多い | C121: FALSE | D121: =""
A122: 22_7 | B122: 気にかけてくれる | C122: FALSE | D122: =""
A123: 22_8 | B123: 1人にしてくれる | C123: FALSE | D123: =""
A124: 22_9 | B124: 相談・質問ができる | C124: FALSE | D124: =""
...

Sheet DB（Ⅱ）
A2: 項目 | B2: 選択有無 | C2: ABC評価（自己評価） | D2: ABC評価（支援・配慮なし） | E2: ABC評価（支援・配慮あり） | F2: S評価（協同評価） | G2: 面接による聞き取り | H2: 関係者からの情報収集 | I2: ワークサンプル | J2: 場面設定法 | K2: 職場実習 | L2: 検査 | M2: その他 | N2: 評価の方法 | O2: 評価の理由 | P2: 支援の内容 | Q2: 項目文の要約 | R2: 結果_職業準備性(支援・配慮なし) | S2: 結果_職業準備性(支援・配慮あり) | T2: 「支・配あり」－「支・配なし」（<0 → 0） | U2: 選択-項目
A3: 推1 | B3: =IF(D3=FALSE,FALSE,TRUE) -> FALSE | C3: 5 | D3: FALSE | E3: FALSE | F3: FALSE | G3: FALSE | H3: FALSE | I3: FALSE | J3: TRUE | K3: FALSE | L3: FALSE | M3: FALSE | N3: =INDIRECT("'⑤Ⅱ_就労のための基本的事項（評価用）'!G"&29+((ROW(A1)-1)*31)+((COLUMN(A1)-1)*4)+IF(ROW(A1)>41,14,IF(ROW(A1)>35,12,IF(ROW(A1)>29,8,IF(ROW(A1)>21,6,IF(ROW(A1)>3,2,0)))))) -> 0 | O3: =INDIRECT("'⑤Ⅱ_就労のための基本的事項（評価用）'!G"&29+((ROW(B1)-1)*31)+((COLUMN(B1)-1)*4)+IF(ROW(B1)>41,14,IF(ROW(B1)>35,12,IF(ROW(B1)>29,8,IF(ROW(B1)>21,6,IF(ROW(B1)>3,2,0)))))) -> 0 | P3: =INDIRECT("'⑤Ⅱ_就労のための基本的事項（評価用）'!G"&29+((ROW(C1)-1)*31)+((COLUMN(C1)-1)*4)+IF(ROW(C1)>41,14,IF(ROW(C1)>35,12,IF(ROW(C1)>29,8,IF(ROW(C1)>21,6,IF(ROW(C1)>3,2,0)))))) -> 0 | Q3: 指示理解 | R3: =IF($B3=FALSE,"",IF(D3-2<0,0,D3-2)) | S3: =IF($B3=FALSE,"",IF(E3-2<0,0,E3-2)) | T3: =IF(B3=FALSE,"",IF(S3-R3<0,0,S3-R3)) | U3: =IF(B3=FALSE,"",Q3)
A4: 推2 | B4: =IF(D4=FALSE,FALSE,TRUE) -> FALSE | C4: FALSE | D4: FALSE | E4: 5 | F4: FALSE | G4: FALSE | H4: FALSE | I4: FALSE | J4: FALSE | K4: TRUE | L4: FALSE | M4: FALSE | N4: =INDIRECT("'⑤Ⅱ_就労のための基本的事項（評価用）'!G"&29+((ROW(A2)-1)*31)+((COLUMN(A2)-1)*4)+IF(ROW(A2)>41,14,IF(ROW(A2)>35,12,IF(ROW(A2)>29,8,IF(ROW(A2)>21,6,IF(ROW(A2)>3,2,0)))))) -> 0 | O4: =INDIRECT("'⑤Ⅱ_就労のための基本的事項（評価用）'!G"&29+((ROW(B2)-1)*31)+((COLUMN(B2)-1)*4)+IF(ROW(B2)>41,14,IF(ROW(B2)>35,12,IF(ROW(B2)>29,8,IF(ROW(B2)>21,6,IF(ROW(B2)>3,2,0)))))) -> 0 | P4: =INDIRECT("'⑤Ⅱ_就労のための基本的事項（評価用）'!G"&29+((ROW(C2)-1)*31)+((COLUMN(C2)-1)*4)+IF(ROW(C2)>41,14,IF(ROW(C2)>35,12,IF(ROW(C2)>29,8,IF(ROW(C2)>21,6,IF(ROW(C2)>3,2,0)))))) -> 0 | Q4: 安全な作業 | R4: =IF($B4=FALSE,"",IF(D4-2<0,0,D4-2)) | S4: =IF($B4=FALSE,"",IF(E4-2<0,0,E4-2)) | T4: =IF(B4=FALSE,"",IF(S4-R4<0,0,S4-R4)) | U4: =IF(B4=FALSE,"",Q4)
A5: 推3 | B5: =IF(D5=FALSE,FALSE,TRUE) -> FALSE | C5: 5 | D5: FALSE | E5: FALSE | F5: FALSE | G5: TRUE | H5: TRUE | I5: FALSE | J5: TRUE | K5: TRUE | L5: FALSE | M5: TRUE | N5: =INDIRECT("'⑤Ⅱ_就労のための基本的事項（評価用）'!G"&29+((ROW(A3)-1)*31)+((COLUMN(A3)-1)*4)+IF(ROW(A3)>41,14,IF(ROW(A3)>35,12,IF(ROW(A3)>29,8,IF(ROW(A3)>21,6,IF(ROW(A3)>3,2,0)))))) -> 0 | O5: =INDIRECT("'⑤Ⅱ_就労のための基本的事項（評価用）'!G"&29+((ROW(B3)-1)*31)+((COLUMN(B3)-1)*4)+IF(ROW(B3)>41,14,IF(ROW(B3)>35,12,IF(ROW(B3)>29,8,IF(ROW(B3)>21,6,IF(ROW(B3)>3,2,0)))))) -> 自分からすすんで作業に取り組む | P5: =INDIRECT("'⑤Ⅱ_就労のための基本的事項（評価用）'!G"&29+((ROW(C3)-1)*31)+((COLUMN(C3)-1)*4)+IF(ROW(C3)>41,14,IF(ROW(C3)>35,12,IF(ROW(C3)>29,8,IF(ROW(C3)>21,6,IF(ROW(C3)>3,2,0)))))) -> 0 | Q5: 仕事への責任感 | R5: =IF($B5=FALSE,"",IF(D5-2<0,0,D5-2)) | S5: =IF($B5=FALSE,"",IF(E5-2<0,0,E5-2)) | T5: =IF(B5=FALSE,"",IF(S5-R5<0,0,S5-R5)) | U5: =IF(B5=FALSE,"",Q5)
A6: 選1 | B6: =IF(D6=FALSE,FALSE,TRUE) -> FALSE | C6: 0 | D6: FALSE | E6: FALSE | F6: FALSE | G6: FALSE | H6: FALSE | I6: FALSE | J6: FALSE | K6: FALSE | L6: FALSE | M6: FALSE | N6: =INDIRECT("'⑤Ⅱ_就労のための基本的事項（評価用）'!G"&29+((ROW(A4)-1)*31)+((COLUMN(A4)-1)*4)+IF(ROW(A4)>41,14,IF(ROW(A4)>35,12,IF(ROW(A4)>29,8,IF(ROW(A4)>21,6,IF(ROW(A4)>3,2,0)))))) -> 0 | O6: =INDIRECT("'⑤Ⅱ_就労のための基本的事項（評価用）'!G"&29+((ROW(B4)-1)*31)+((COLUMN(B4)-1)*4)+IF(ROW(B4)>41,14,IF(ROW(B4)>35,12,IF(ROW(B4)>29,8,IF(ROW(B4)>21,6,IF(ROW(B4)>3,2,0)))))) -> 0 | P6: =INDIRECT("'⑤Ⅱ_就労のための基本的事項（評価用）'!G"&29+((ROW(C4)-1)*31)+((COLUMN(C4)-1)*4)+IF(ROW(C4)>41,14,IF(ROW(C4)>35,12,IF(ROW(C4)>29,8,IF(ROW(C4)>21,6,IF(ROW(C4)>3,2,0)))))) -> 0 | Q6: 正確な作業 | R6: =IF($B6=FALSE,"",IF(D6-2<0,0,D6-2)) | S6: =IF($B6=FALSE,"",IF(E6-2<0,0,E6-2)) | T6: =IF(B6=FALSE,"",IF(S6-R6<0,0,S6-R6)) | U6: =IF(B6=FALSE,"",Q6)
A7: 選2 | B7: =IF(D7=FALSE,FALSE,TRUE) -> TRUE | C7: TRUE | D7: 0 | E7: TRUE | F7: FALSE | G7: FALSE | H7: FALSE | I7: FALSE | J7: FALSE | K7: FALSE | L7: FALSE | M7: FALSE | N7: =INDIRECT("'⑤Ⅱ_就労のための基本的事項（評価用）'!G"&29+((ROW(A5)-1)*31)+((COLUMN(A5)-1)*4)+IF(ROW(A5)>41,14,IF(ROW(A5)>35,12,IF(ROW(A5)>29,8,IF(ROW(A5)>21,6,IF(ROW(A5)>3,2,0)))))) -> 質問・報告（作業の終了、失敗等）・連絡・相談をする | O7: =INDIRECT("'⑤Ⅱ_就労のための基本的事項（評価用）'!G"&29+((ROW(B5)-1)*31)+((COLUMN(B5)-1)*4)+IF(ROW(B5)>41,14,IF(ROW(B5)>35,12,IF(ROW(B5)>29,8,IF(ROW(B5)>21,6,IF(ROW(B5)>3,2,0)))))) -> 0 | P7: =INDIRECT("'⑤Ⅱ_就労のための基本的事項（評価用）'!G"&29+((ROW(C5)-1)*31)+((COLUMN(C5)-1)*4)+IF(ROW(C5)>41,14,IF(ROW(C5)>35,12,IF(ROW(C5)>29,8,IF(ROW(C5)>21,6,IF(ROW(C5)>3,2,0)))))) -> 0 | Q7: 作業スピード | R7: =IF($B7=FALSE,"",IF(D7-2<0,0,D7-2)) -> 0 | S7: =IF($B7=FALSE,"",IF(E7-2<0,0,E7-2)) -> 0 | T7: =IF(B7=FALSE,"",IF(S7-R7<0,0,S7-R7)) -> 0 | U7: =IF(B7=FALSE,"",Q7) -> 作業スピード
A8: 選3 | B8: =IF(D8=FALSE,FALSE,TRUE) -> TRUE | C8: FALSE | D8: TRUE | E8: FALSE | F8: FALSE | G8: FALSE | H8: FALSE | I8: FALSE | J8: FALSE | K8: FALSE | L8: TRUE | M8: FALSE | N8: =INDIRECT("'⑤Ⅱ_就労のための基本的事項（評価用）'!G"&29+((ROW(A6)-1)*31)+((COLUMN(A6)-1)*4)+IF(ROW(A6)>41,14,IF(ROW(A6)>35,12,IF(ROW(A6)>29,8,IF(ROW(A6)>21,6,IF(ROW(A6)>3,2,0)))))) -> 0 | O8: =INDIRECT("'⑤Ⅱ_就労のための基本的事項（評価用）'!G"&29+((ROW(B6)-1)*31)+((COLUMN(B6)-1)*4)+IF(ROW(B6)>41,14,IF(ROW(B6)>35,12,IF(ROW(B6)>29,8,IF(ROW(B6)>21,6,IF(ROW(B6)>3,2,0)))))) -> 0 | P8: =INDIRECT("'⑤Ⅱ_就労のための基本的事項（評価用）'!G"&29+((ROW(C6)-1)*31)+((COLUMN(C6)-1)*4)+IF(ROW(C6)>41,14,IF(ROW(C6)>35,12,IF(ROW(C6)>29,8,IF(ROW(C6)>21,6,IF(ROW(C6)>3,2,0)))))) -> 0 | Q8: 作業の上達(※) | R8: =IF($B8=FALSE,"",IF(D8-2<0,0,D8-2)) -> 0 | S8: =IF($B8=FALSE,"",IF(E8-2<0,0,E8-2)) -> 0 | T8: =IF(B8=FALSE,"",IF(S8-R8<0,0,S8-R8)) -> 0 | U8: =IF(B8=FALSE,"",Q8) -> 作業の上達(※)
A9: 選4 | B9: =IF(D9=FALSE,FALSE,TRUE) -> FALSE | C9: 5 | D9: FALSE | E9: FALSE | F9: TRUE | G9: TRUE | H9: TRUE | I9: FALSE | J9: FALSE | K9: FALSE | L9: FALSE | M9: FALSE | N9: =INDIRECT("'⑤Ⅱ_就労のための基本的事項（評価用）'!G"&29+((ROW(A7)-1)*31)+((COLUMN(A7)-1)*4)+IF(ROW(A7)>41,14,IF(ROW(A7)>35,12,IF(ROW(A7)>29,8,IF(ROW(A7)>21,6,IF(ROW(A7)>3,2,0)))))) -> 0 | O9: =INDIRECT("'⑤Ⅱ_就労のための基本的事項（評価用）'!G"&29+((ROW(B7)-1)*31)+((COLUMN(B7)-1)*4)+IF(ROW(B7)>41,14,IF(ROW(B7)>35,12,IF(ROW(B7)>29,8,IF(ROW(B7)>21,6,IF(ROW(B7)>3,2,0)))))) -> 0 | P9: =INDIRECT("'⑤Ⅱ_就労のための基本的事項（評価用）'!G"&29+((ROW(C7)-1)*31)+((COLUMN(C7)-1)*4)+IF(ROW(C7)>41,14,IF(ROW(C7)>35,12,IF(ROW(C7)>29,8,IF(ROW(C7)>21,6,IF(ROW(C7)>3,2,0)))))) -> 0 | Q9: 細かな作業 | R9: =IF($B9=FALSE,"",IF(D9-2<0,0,D9-2)) | S9: =IF($B9=FALSE,"",IF(E9-2<0,0,E9-2)) | T9: =IF(B9=FALSE,"",IF(S9-R9<0,0,S9-R9)) | U9: =IF(B9=FALSE,"",Q9)
A10: 選5 | B10: =IF(D10=FALSE,FALSE,TRUE) -> TRUE | C10: 4 | D10: TRUE | E10: FALSE | F10: FALSE | G10: FALSE | H10: FALSE | I10: FALSE | J10: TRUE | K10: FALSE | L10: FALSE | M10: FALSE | N10: =INDIRECT("'⑤Ⅱ_就労のための基本的事項（評価用）'!G"&29+((ROW(A8)-1)*31)+((COLUMN(A8)-1)*4)+IF(ROW(A8)>41,14,IF(ROW(A8)>35,12,IF(ROW(A8)>29,8,IF(ROW(A8)>21,6,IF(ROW(A8)>3,2,0)))))) -> 0 | O10: =INDIRECT("'⑤Ⅱ_就労のための基本的事項（評価用）'!G"&29+((ROW(B8)-1)*31)+((COLUMN(B8)-1)*4)+IF(ROW(B8)>41,14,IF(ROW(B8)>35,12,IF(ROW(B8)>29,8,IF(ROW(B8)>21,6,IF(ROW(B8)>3,2,0)))))) -> 0 | P10: =INDIRECT("'⑤Ⅱ_就労のための基本的事項（評価用）'!G"&29+((ROW(C8)-1)*31)+((COLUMN(C8)-1)*4)+IF(ROW(C8)>41,14,IF(ROW(C8)>35,12,IF(ROW(C8)>29,8,IF(ROW(C8)>21,6,IF(ROW(C8)>3,2,0)))))) -> 0 | Q10: 作業への集中 | R10: =IF($B10=FALSE,"",IF(D10-2<0,0,D10-2)) -> 0 | S10: =IF($B10=FALSE,"",IF(E10-2<0,0,E10-2)) -> 0 | T10: =IF(B10=FALSE,"",IF(S10-R10<0,0,S10-R10)) -> 0 | U10: =IF(B10=FALSE,"",Q10) -> 作業への集中
A11: 選6 | B11: =IF(D11=FALSE,FALSE,TRUE) -> FALSE | C11: 5 | D11: FALSE | E11: FALSE | F11: FALSE | G11: FALSE | H11: FALSE | I11: FALSE | J11: TRUE | K11: FALSE | L11: FALSE | M11: FALSE | N11: =INDIRECT("'⑤Ⅱ_就労のための基本的事項（評価用）'!G"&29+((ROW(A9)-1)*31)+((COLUMN(A9)-1)*4)+IF(ROW(A9)>41,14,IF(ROW(A9)>35,12,IF(ROW(A9)>29,8,IF(ROW(A9)>21,6,IF(ROW(A9)>3,2,0)))))) -> 0 | O11: =INDIRECT("'⑤Ⅱ_就労のための基本的事項（評価用）'!G"&29+((ROW(B9)-1)*31)+((COLUMN(B9)-1)*4)+IF(ROW(B9)>41,14,IF(ROW(B9)>35,12,IF(ROW(B9)>29,8,IF(ROW(B9)>21,6,IF(ROW(B9)>3,2,0)))))) -> 0 | P11: =INDIRECT("'⑤Ⅱ_就労のための基本的事項（評価用）'!G"&29+((ROW(C9)-1)*31)+((COLUMN(C9)-1)*4)+IF(ROW(C9)>41,14,IF(ROW(C9)>35,12,IF(ROW(C9)>29,8,IF(ROW(C9)>21,6,IF(ROW(C9)>3,2,0)))))) -> 0 | Q11: 変更への対応 | R11: =IF($B11=FALSE,"",IF(D11-2<0,0,D11-2)) | S11: =IF($B11=FALSE,"",IF(E11-2<0,0,E11-2)) | T11: =IF(B11=FALSE,"",IF(S11-R11<0,0,S11-R11)) | U11: =IF(B11=FALSE,"",Q11)
A12: 選7 | B12: =IF(D12=FALSE,FALSE,TRUE) -> FALSE | C12: 5 | D12: FALSE | E12: FALSE | F12: FALSE | G12: FALSE | H12: FALSE | I12: FALSE | J12: TRUE | K12: FALSE | L12: FALSE | M12: FALSE | N12: =INDIRECT("'⑤Ⅱ_就労のための基本的事項（評価用）'!G"&29+((ROW(A10)-1)*31)+((COLUMN(A10)-1)*4)+IF(ROW(A10)>41,14,IF(ROW(A10)>35,12,IF(ROW(A10)>29,8,IF(ROW(A10)>21,6,IF(ROW(A10)>3,2,0)))))) -> 0 | O12: =INDIRECT("'⑤Ⅱ_就労のための基本的事項（評価用）'!G"&29+((ROW(B10)-1)*31)+((COLUMN(B10)-1)*4)+IF(ROW(B10)>41,14,IF(ROW(B10)>35,12,IF(ROW(B10)>29,8,IF(ROW(B10)>21,6,IF(ROW(B10)>3,2,0)))))) -> 0 | P12: =INDIRECT("'⑤Ⅱ_就労のための基本的事項（評価用）'!G"&29+((ROW(C10)-1)*31)+((COLUMN(C10)-1)*4)+IF(ROW(C10)>41,14,IF(ROW(C10)>35,12,IF(ROW(C10)>29,8,IF(ROW(C10)>21,6,IF(ROW(C10)>3,2,0)))))) -> 0 | Q12: ミスへの気づき | R12: =IF($B12=FALSE,"",IF(D12-2<0,0,D12-2)) | S12: =IF($B12=FALSE,"",IF(E12-2<0,0,E12-2)) | T12: =IF(B12=FALSE,"",IF(S12-R12<0,0,S12-R12)) | U12: =IF(B12=FALSE,"",Q12)
A13: 選8 | B13: =IF(D13=FALSE,FALSE,TRUE) -> FALSE | C13: 0 | D13: FALSE | E13: FALSE | F13: TRUE | G13: FALSE | H13: FALSE | I13: FALSE | J13: FALSE | K13: FALSE | L13: FALSE | M13: FALSE | N13: =INDIRECT("'⑤Ⅱ_就労のための基本的事項（評価用）'!G"&29+((ROW(A11)-1)*31)+((COLUMN(A11)-1)*4)+IF(ROW(A11)>41,14,IF(ROW(A11)>35,12,IF(ROW(A11)>29,8,IF(ROW(A11)>21,6,IF(ROW(A11)>3,2,0)))))) -> 0 | O13: =INDIRECT("'⑤Ⅱ_就労のための基本的事項（評価用）'!G"&29+((ROW(B11)-1)*31)+((COLUMN(B11)-1)*4)+IF(ROW(B11)>41,14,IF(ROW(B11)>35,12,IF(ROW(B11)>29,8,IF(ROW(B11)>21,6,IF(ROW(B11)>3,2,0)))))) -> 0 | P13: =INDIRECT("'⑤Ⅱ_就労のための基本的事項（評価用）'!G"&29+((ROW(C11)-1)*31)+((COLUMN(C11)-1)*4)+IF(ROW(C11)>41,14,IF(ROW(C11)>35,12,IF(ROW(C11)>29,8,IF(ROW(C11)>21,6,IF(ROW(C11)>3,2,0)))))) -> 0 | Q13: 安全な道具等の使用 | R13: =IF($B13=FALSE,"",IF(D13-2<0,0,D13-2)) | S13: =IF($B13=FALSE,"",IF(E13-2<0,0,E13-2)) | T13: =IF(B13=FALSE,"",IF(S13-R13<0,0,S13-R13)) | U13: =IF(B13=FALSE,"",Q13)
A14: 選9 | B14: =IF(D14=FALSE,FALSE,TRUE) -> FALSE | C14: FALSE | D14: FALSE | E14: FALSE | F14: FALSE | G14: FALSE | H14: FALSE | I14: FALSE | J14: FALSE | K14: FALSE | L14: FALSE | M14: FALSE | N14: =INDIRECT("'⑤Ⅱ_就労のための基本的事項（評価用）'!G"&29+((ROW(A12)-1)*31)+((COLUMN(A12)-1)*4)+IF(ROW(A12)>41,14,IF(ROW(A12)>35,12,IF(ROW(A12)>29,8,IF(ROW(A12)>21,6,IF(ROW(A12)>3,2,0)))))) -> 0 | O14: =INDIRECT("'⑤Ⅱ_就労のための基本的事項（評価用）'!G"&29+((ROW(B12)-1)*31)+((COLUMN(B12)-1)*4)+IF(ROW(B12)>41,14,IF(ROW(B12)>35,12,IF(ROW(B12)>29,8,IF(ROW(B12)>21,6,IF(ROW(B12)>3,2,0)))))) -> 0 | P14: =INDIRECT("'⑤Ⅱ_就労のための基本的事項（評価用）'!G"&29+((ROW(C12)-1)*31)+((COLUMN(C12)-1)*4)+IF(ROW(C12)>41,14,IF(ROW(C12)>35,12,IF(ROW(C12)>29,8,IF(ROW(C12)>21,6,IF(ROW(C12)>3,2,0)))))) -> 0 | Q14: 道具等の使用 | R14: =IF($B14=FALSE,"",IF(D14-2<0,0,D14-2)) | S14: =IF($B14=FALSE,"",IF(E14-2<0,0,E14-2)) | T14: =IF(B14=FALSE,"",IF(S14-R14<0,0,S14-R14)) | U14: =IF(B14=FALSE,"",Q14)
A15: 選10 | B15: =IF(D15=FALSE,FALSE,TRUE) -> FALSE | C15: FALSE | D15: FALSE | E15: FALSE | F15: FALSE | G15: FALSE | H15: FALSE | I15: FALSE | J15: FALSE | K15: FALSE | L15: FALSE | M15: FALSE | N15: =INDIRECT("'⑤Ⅱ_就労のための基本的事項（評価用）'!G"&29+((ROW(A13)-1)*31)+((COLUMN(A13)-1)*4)+IF(ROW(A13)>41,14,IF(ROW(A13)>35,12,IF(ROW(A13)>29,8,IF(ROW(A13)>21,6,IF(ROW(A13)>3,2,0)))))) -> 0 | O15: =INDIRECT("'⑤Ⅱ_就労のための基本的事項（評価用）'!G"&29+((ROW(B13)-1)*31)+((COLUMN(B13)-1)*4)+IF(ROW(B13)>41,14,IF(ROW(B13)>35,12,IF(ROW(B13)>29,8,IF(ROW(B13)>21,6,IF(ROW(B13)>3,2,0)))))) -> 0 | P15: =INDIRECT("'⑤Ⅱ_就労のための基本的事項（評価用）'!G"&29+((ROW(C13)-1)*31)+((COLUMN(C13)-1)*4)+IF(ROW(C13)>41,14,IF(ROW(C13)>35,12,IF(ROW(C13)>29,8,IF(ROW(C13)>21,6,IF(ROW(C13)>3,2,0)))))) -> 0 | Q15: 準備・後片付け | R15: =IF($B15=FALSE,"",IF(D15-2<0,0,D15-2)) | S15: =IF($B15=FALSE,"",IF(E15-2<0,0,E15-2)) | T15: =IF(B15=FALSE,"",IF(S15-R15<0,0,S15-R15)) | U15: =IF(B15=FALSE,"",Q15)
A16: 選11 | B16: =IF(D16=FALSE,FALSE,TRUE) -> FALSE | C16: FALSE | D16: FALSE | E16: FALSE | F16: FALSE | G16: FALSE | H16: FALSE | I16: FALSE | J16: FALSE | K16: FALSE | L16: FALSE | M16: FALSE | N16: =INDIRECT("'⑤Ⅱ_就労のための基本的事項（評価用）'!G"&29+((ROW(A14)-1)*31)+((COLUMN(A14)-1)*4)+IF(ROW(A14)>41,14,IF(ROW(A14)>35,12,IF(ROW(A14)>29,8,IF(ROW(A14)>21,6,IF(ROW(A14)>3,2,0)))))) -> 0 | O16: =INDIRECT("'⑤Ⅱ_就労のための基本的事項（評価用）'!G"&29+((ROW(B14)-1)*31)+((COLUMN(B14)-1)*4)+IF(ROW(B14)>41,14,IF(ROW(B14)>35,12,IF(ROW(B14)>29,8,IF(ROW(B14)>21,6,IF(ROW(B14)>3,2,0)))))) -> 0 | P16: =INDIRECT("'⑤Ⅱ_就労のための基本的事項（評価用）'!G"&29+((ROW(C14)-1)*31)+((COLUMN(C14)-1)*4)+IF(ROW(C14)>41,14,IF(ROW(C14)>35,12,IF(ROW(C14)>29,8,IF(ROW(C14)>21,6,IF(ROW(C14)>3,2,0)))))) -> 0 | Q16: 読むこと | R16: =IF($B16=FALSE,"",IF(D16-2<0,0,D16-2)) | S16: =IF($B16=FALSE,"",IF(E16-2<0,0,E16-2)) | T16: =IF(B16=FALSE,"",IF(S16-R16<0,0,S16-R16)) | U16: =IF(B16=FALSE,"",Q16)
A17: 選12 | B17: =IF(D17=FALSE,FALSE,TRUE) -> FALSE | C17: FALSE | D17: FALSE | E17: FALSE | F17: FALSE | G17: FALSE | H17: FALSE | I17: TRUE | J17: FALSE | K17: FALSE | L17: FALSE | M17: FALSE | N17: =INDIRECT("'⑤Ⅱ_就労のための基本的事項（評価用）'!G"&29+((ROW(A15)-1)*31)+((COLUMN(A15)-1)*4)+IF(ROW(A15)>41,14,IF(ROW(A15)>35,12,IF(ROW(A15)>29,8,IF(ROW(A15)>21,6,IF(ROW(A15)>3,2,0)))))) -> 0 | O17: =INDIRECT("'⑤Ⅱ_就労のための基本的事項（評価用）'!G"&29+((ROW(B15)-1)*31)+((COLUMN(B15)-1)*4)+IF(ROW(B15)>41,14,IF(ROW(B15)>35,12,IF(ROW(B15)>29,8,IF(ROW(B15)>21,6,IF(ROW(B15)>3,2,0)))))) -> 0 | P17: =INDIRECT("'⑤Ⅱ_就労のための基本的事項（評価用）'!G"&29+((ROW(C15)-1)*31)+((COLUMN(C15)-1)*4)+IF(ROW(C15)>41,14,IF(ROW(C15)>35,12,IF(ROW(C15)>29,8,IF(ROW(C15)>21,6,IF(ROW(C15)>3,2,0)))))) -> 0 | Q17: 書くこと | R17: =IF($B17=FALSE,"",IF(D17-2<0,0,D17-2)) | S17: =IF($B17=FALSE,"",IF(E17-2<0,0,E17-2)) | T17: =IF(B17=FALSE,"",IF(S17-R17<0,0,S17-R17)) | U17: =IF(B17=FALSE,"",Q17)
A18: 選13 | B18: =IF(D18=FALSE,FALSE,TRUE) -> FALSE | C18: FALSE | D18: FALSE | E18: FALSE | F18: FALSE | G18: FALSE | H18: FALSE | I18: FALSE | J18: FALSE | K18: FALSE | L18: TRUE | M18: FALSE | N18: =INDIRECT("'⑤Ⅱ_就労のための基本的事項（評価用）'!G"&29+((ROW(A16)-1)*31)+((COLUMN(A16)-1)*4)+IF(ROW(A16)>41,14,IF(ROW(A16)>35,12,IF(ROW(A16)>29,8,IF(ROW(A16)>21,6,IF(ROW(A16)>3,2,0)))))) -> 0 | O18: =INDIRECT("'⑤Ⅱ_就労のための基本的事項（評価用）'!G"&29+((ROW(B16)-1)*31)+((COLUMN(B16)-1)*4)+IF(ROW(B16)>41,14,IF(ROW(B16)>35,12,IF(ROW(B16)>29,8,IF(ROW(B16)>21,6,IF(ROW(B16)>3,2,0)))))) -> 0 | P18: =INDIRECT("'⑤Ⅱ_就労のための基本的事項（評価用）'!G"&29+((ROW(C16)-1)*31)+((COLUMN(C16)-1)*4)+IF(ROW(C16)>41,14,IF(ROW(C16)>35,12,IF(ROW(C16)>29,8,IF(ROW(C16)>21,6,IF(ROW(C16)>3,2,0)))))) -> 0 | Q18: メモの活用 | R18: =IF($B18=FALSE,"",IF(D18-2<0,0,D18-2)) | S18: =IF($B18=FALSE,"",IF(E18-2<0,0,E18-2)) | T18: =IF(B18=FALSE,"",IF(S18-R18<0,0,S18-R18)) | U18: =IF(B18=FALSE,"",Q18)
A19: 選14 | B19: =IF(D19=FALSE,FALSE,TRUE) -> FALSE | C19: TRUE | D19: FALSE | E19: FALSE | F19: FALSE | G19: FALSE | H19: FALSE | I19: FALSE | J19: FALSE | K19: FALSE | L19: FALSE | M19: FALSE | N19: =INDIRECT("'⑤Ⅱ_就労のための基本的事項（評価用）'!G"&29+((ROW(A17)-1)*31)+((COLUMN(A17)-1)*4)+IF(ROW(A17)>41,14,IF(ROW(A17)>35,12,IF(ROW(A17)>29,8,IF(ROW(A17)>21,6,IF(ROW(A17)>3,2,0)))))) -> 0 | O19: =INDIRECT("'⑤Ⅱ_就労のための基本的事項（評価用）'!G"&29+((ROW(B17)-1)*31)+((COLUMN(B17)-1)*4)+IF(ROW(B17)>41,14,IF(ROW(B17)>35,12,IF(ROW(B17)>29,8,IF(ROW(B17)>21,6,IF(ROW(B17)>3,2,0)))))) -> 0 | P19: =INDIRECT("'⑤Ⅱ_就労のための基本的事項（評価用）'!G"&29+((ROW(C17)-1)*31)+((COLUMN(C17)-1)*4)+IF(ROW(C17)>41,14,IF(ROW(C17)>35,12,IF(ROW(C17)>29,8,IF(ROW(C17)>21,6,IF(ROW(C17)>3,2,0)))))) -> 0 | Q19: 計算すること | R19: =IF($B19=FALSE,"",IF(D19-2<0,0,D19-2)) | S19: =IF($B19=FALSE,"",IF(E19-2<0,0,E19-2)) | T19: =IF(B19=FALSE,"",IF(S19-R19<0,0,S19-R19)) | U19: =IF(B19=FALSE,"",Q19)
A20: 選15 | B20: =IF(D20=FALSE,FALSE,TRUE) -> FALSE | C20: FALSE | D20: FALSE | E20: FALSE | F20: FALSE | G20: FALSE | H20: FALSE | I20: FALSE | J20: TRUE | K20: FALSE | L20: FALSE | M20: FALSE | N20: =INDIRECT("'⑤Ⅱ_就労のための基本的事項（評価用）'!G"&29+((ROW(A18)-1)*31)+((COLUMN(A18)-1)*4)+IF(ROW(A18)>41,14,IF(ROW(A18)>35,12,IF(ROW(A18)>29,8,IF(ROW(A18)>21,6,IF(ROW(A18)>3,2,0)))))) -> 0 | O20: =INDIRECT("'⑤Ⅱ_就労のための基本的事項（評価用）'!G"&29+((ROW(B18)-1)*31)+((COLUMN(B18)-1)*4)+IF(ROW(B18)>41,14,IF(ROW(B18)>35,12,IF(ROW(B18)>29,8,IF(ROW(B18)>21,6,IF(ROW(B18)>3,2,0)))))) -> 0 | P20: =INDIRECT("'⑤Ⅱ_就労のための基本的事項（評価用）'!G"&29+((ROW(C18)-1)*31)+((COLUMN(C18)-1)*4)+IF(ROW(C18)>41,14,IF(ROW(C18)>35,12,IF(ROW(C18)>29,8,IF(ROW(C18)>21,6,IF(ROW(C18)>3,2,0)))))) -> 0 | Q20: 計量・計数 | R20: =IF($B20=FALSE,"",IF(D20-2<0,0,D20-2)) | S20: =IF($B20=FALSE,"",IF(E20-2<0,0,E20-2)) | T20: =IF(B20=FALSE,"",IF(S20-R20<0,0,S20-R20)) | U20: =IF(B20=FALSE,"",Q20)
A21: 選16 | B21: =IF(D21=FALSE,FALSE,TRUE) -> TRUE | C21: 0 | D21: TRUE | E21: TRUE | F21: FALSE | G21: FALSE | H21: FALSE | I21: TRUE | J21: FALSE | K21: TRUE | L21: FALSE | M21: TRUE | N21: =INDIRECT("'⑤Ⅱ_就労のための基本的事項（評価用）'!G"&29+((ROW(A19)-1)*31)+((COLUMN(A19)-1)*4)+IF(ROW(A19)>41,14,IF(ROW(A19)>35,12,IF(ROW(A19)>29,8,IF(ROW(A19)>21,6,IF(ROW(A19)>3,2,0)))))) -> 0 | O21: =INDIRECT("'⑤Ⅱ_就労のための基本的事項（評価用）'!G"&29+((ROW(B19)-1)*31)+((COLUMN(B19)-1)*4)+IF(ROW(B19)>41,14,IF(ROW(B19)>35,12,IF(ROW(B19)>29,8,IF(ROW(B19)>21,6,IF(ROW(B19)>3,2,0)))))) -> 0 | P21: =INDIRECT("'⑤Ⅱ_就労のための基本的事項（評価用）'!G"&29+((ROW(C19)-1)*31)+((COLUMN(C19)-1)*4)+IF(ROW(C19)>41,14,IF(ROW(C19)>35,12,IF(ROW(C19)>29,8,IF(ROW(C19)>21,6,IF(ROW(C19)>3,2,0)))))) -> 0 | Q21: 持続力 | R21: =IF($B21=FALSE,"",IF(D21-2<0,0,D21-2)) -> 0 | S21: =IF($B21=FALSE,"",IF(E21-2<0,0,E21-2)) -> 0 | T21: =IF(B21=FALSE,"",IF(S21-R21<0,0,S21-R21)) -> 0 | U21: =IF(B21=FALSE,"",Q21) -> 持続力
A22: 選17 | B22: =IF(D22=FALSE,FALSE,TRUE) -> FALSE | C22: 5 | D22: FALSE | E22: FALSE | F22: FALSE | G22: FALSE | H22: FALSE | I22: FALSE | J22: TRUE | K22: FALSE | L22: FALSE | M22: FALSE | N22: =INDIRECT("'⑤Ⅱ_就労のための基本的事項（評価用）'!G"&29+((ROW(A20)-1)*31)+((COLUMN(A20)-1)*4)+IF(ROW(A20)>41,14,IF(ROW(A20)>35,12,IF(ROW(A20)>29,8,IF(ROW(A20)>21,6,IF(ROW(A20)>3,2,0)))))) -> 0 | O22: =INDIRECT("'⑤Ⅱ_就労のための基本的事項（評価用）'!G"&29+((ROW(B20)-1)*31)+((COLUMN(B20)-1)*4)+IF(ROW(B20)>41,14,IF(ROW(B20)>35,12,IF(ROW(B20)>29,8,IF(ROW(B20)>21,6,IF(ROW(B20)>3,2,0)))))) -> 0 | P22: =INDIRECT("'⑤Ⅱ_就労のための基本的事項（評価用）'!G"&29+((ROW(C20)-1)*31)+((COLUMN(C20)-1)*4)+IF(ROW(C20)>41,14,IF(ROW(C20)>35,12,IF(ROW(C20)>29,8,IF(ROW(C20)>21,6,IF(ROW(C20)>3,2,0)))))) -> 0 | Q22: 作業への積極性 | R22: =IF($B22=FALSE,"",IF(D22-2<0,0,D22-2)) | S22: =IF($B22=FALSE,"",IF(E22-2<0,0,E22-2)) | T22: =IF(B22=FALSE,"",IF(S22-R22<0,0,S22-R22)) | U22: =IF(B22=FALSE,"",Q22)
A23: 選18 | B23: =IF(D23=FALSE,FALSE,TRUE) -> FALSE | C23: FALSE | D23: FALSE | E23: FALSE | F23: FALSE | G23: FALSE | H23: FALSE | I23: FALSE | J23: FALSE | K23: FALSE | L23: FALSE | M23: FALSE | N23: =INDIRECT("'⑤Ⅱ_就労のための基本的事項（評価用）'!G"&29+((ROW(A21)-1)*31)+((COLUMN(A21)-1)*4)+IF(ROW(A21)>41,14,IF(ROW(A21)>35,12,IF(ROW(A21)>29,8,IF(ROW(A21)>21,6,IF(ROW(A21)>3,2,0)))))) -> 0 | O23: =INDIRECT("'⑤Ⅱ_就労のための基本的事項（評価用）'!G"&29+((ROW(B21)-1)*31)+((COLUMN(B21)-1)*4)+IF(ROW(B21)>41,14,IF(ROW(B21)>35,12,IF(ROW(B21)>29,8,IF(ROW(B21)>21,6,IF(ROW(B21)>3,2,0)))))) -> 0 | P23: =INDIRECT("'⑤Ⅱ_就労のための基本的事項（評価用）'!G"&29+((ROW(C21)-1)*31)+((COLUMN(C21)-1)*4)+IF(ROW(C21)>41,14,IF(ROW(C21)>35,12,IF(ROW(C21)>29,8,IF(ROW(C21)>21,6,IF(ROW(C21)>3,2,0)))))) -> 0 | Q23: 能力開発への取組 | R23: =IF($B23=FALSE,"",IF(D23-2<0,0,D23-2)) | S23: =IF($B23=FALSE,"",IF(E23-2<0,0,E23-2)) | T23: =IF(B23=FALSE,"",IF(S23-R23<0,0,S23-R23)) | U23: =IF(B23=FALSE,"",Q23)
A24: 推4 | B24: =IF(D24=FALSE,FALSE,TRUE) -> FALSE | C24: 0 | D24: FALSE | E24: FALSE | F24: FALSE | G24: FALSE | H24: FALSE | I24: FALSE | J24: FALSE | K24: FALSE | L24: FALSE | M24: FALSE | N24: =INDIRECT("'⑤Ⅱ_就労のための基本的事項（評価用）'!G"&29+((ROW(A22)-1)*31)+((COLUMN(A22)-1)*4)+IF(ROW(A22)>41,14,IF(ROW(A22)>35,12,IF(ROW(A22)>29,8,IF(ROW(A22)>21,6,IF(ROW(A22)>3,2,0)))))) -> 0 | O24: =INDIRECT("'⑤Ⅱ_就労のための基本的事項（評価用）'!G"&29+((ROW(B22)-1)*31)+((COLUMN(B22)-1)*4)+IF(ROW(B22)>41,14,IF(ROW(B22)>35,12,IF(ROW(B22)>29,8,IF(ROW(B22)>21,6,IF(ROW(B22)>3,2,0)))))) -> 0 | P24: =INDIRECT("'⑤Ⅱ_就労のための基本的事項（評価用）'!G"&29+((ROW(C22)-1)*31)+((COLUMN(C22)-1)*4)+IF(ROW(C22)>41,14,IF(ROW(C22)>35,12,IF(ROW(C22)>29,8,IF(ROW(C22)>21,6,IF(ROW(C22)>3,2,0)))))) -> 0 | Q24: 規則の理解 | R24: =IF($B24=FALSE,"",IF(D24-2<0,0,D24-2)) | S24: =IF($B24=FALSE,"",IF(E24-2<0,0,E24-2)) | T24: =IF(B24=FALSE,"",IF(S24-R24<0,0,S24-R24)) | U24: =IF(B24=FALSE,"",Q24)
A25: 推5 | B25: =IF(D25=FALSE,FALSE,TRUE) -> FALSE | C25: FALSE | D25: FALSE | E25: FALSE | F25: FALSE | G25: TRUE | H25: TRUE | I25: FALSE | J25: FALSE | K25: FALSE | L25: FALSE | M25: FALSE | N25: =INDIRECT("'⑤Ⅱ_就労のための基本的事項（評価用）'!G"&29+((ROW(A23)-1)*31)+((COLUMN(A23)-1)*4)+IF(ROW(A23)>41,14,IF(ROW(A23)>35,12,IF(ROW(A23)>29,8,IF(ROW(A23)>21,6,IF(ROW(A23)>3,2,0)))))) -> 0 | O25: =INDIRECT("'⑤Ⅱ_就労のための基本的事項（評価用）'!G"&29+((ROW(B23)-1)*31)+((COLUMN(B23)-1)*4)+IF(ROW(B23)>41,14,IF(ROW(B23)>35,12,IF(ROW(B23)>29,8,IF(ROW(B23)>21,6,IF(ROW(B23)>3,2,0)))))) -> 0 | P25: =INDIRECT("'⑤Ⅱ_就労のための基本的事項（評価用）'!G"&29+((ROW(C23)-1)*31)+((COLUMN(C23)-1)*4)+IF(ROW(C23)>41,14,IF(ROW(C23)>35,12,IF(ROW(C23)>29,8,IF(ROW(C23)>21,6,IF(ROW(C23)>3,2,0)))))) -> 0 | Q25: 出勤状況 | R25: =IF($B25=FALSE,"",IF(D25-2<0,0,D25-2)) | S25: =IF($B25=FALSE,"",IF(E25-2<0,0,E25-2)) | T25: =IF(B25=FALSE,"",IF(S25-R25<0,0,S25-R25)) | U25: =IF(B25=FALSE,"",Q25)
A26: 推6 | B26: =IF(D26=FALSE,FALSE,TRUE) -> FALSE | C26: FALSE | D26: FALSE | E26: FALSE | F26: FALSE | G26: FALSE | H26: FALSE | I26: FALSE | J26: FALSE | K26: FALSE | L26: FALSE | M26: FALSE | N26: =INDIRECT("'⑤Ⅱ_就労のための基本的事項（評価用）'!G"&29+((ROW(A24)-1)*31)+((COLUMN(A24)-1)*4)+IF(ROW(A24)>41,14,IF(ROW(A24)>35,12,IF(ROW(A24)>29,8,IF(ROW(A24)>21,6,IF(ROW(A24)>3,2,0)))))) -> 0 | O26: =INDIRECT("'⑤Ⅱ_就労のための基本的事項（評価用）'!G"&29+((ROW(B24)-1)*31)+((COLUMN(B24)-1)*4)+IF(ROW(B24)>41,14,IF(ROW(B24)>35,12,IF(ROW(B24)>29,8,IF(ROW(B24)>21,6,IF(ROW(B24)>3,2,0)))))) -> 0 | P26: =INDIRECT("'⑤Ⅱ_就労のための基本的事項（評価用）'!G"&29+((ROW(C24)-1)*31)+((COLUMN(C24)-1)*4)+IF(ROW(C24)>41,14,IF(ROW(C24)>35,12,IF(ROW(C24)>29,8,IF(ROW(C24)>21,6,IF(ROW(C24)>3,2,0)))))) -> 0 | Q26: 欠勤等の連絡 | R26: =IF($B26=FALSE,"",IF(D26-2<0,0,D26-2)) | S26: =IF($B26=FALSE,"",IF(E26-2<0,0,E26-2)) | T26: =IF(B26=FALSE,"",IF(S26-R26<0,0,S26-R26)) | U26: =IF(B26=FALSE,"",Q26)
A27: 推7 | B27: =IF(D27=FALSE,FALSE,TRUE) -> FALSE | C27: FALSE | D27: FALSE | E27: FALSE | F27: FALSE | G27: FALSE | H27: FALSE | I27: FALSE | J27: FALSE | K27: FALSE | L27: FALSE | M27: FALSE | N27: =INDIRECT("'⑤Ⅱ_就労のための基本的事項（評価用）'!G"&29+((ROW(A25)-1)*31)+((COLUMN(A25)-1)*4)+IF(ROW(A25)>41,14,IF(ROW(A25)>35,12,IF(ROW(A25)>29,8,IF(ROW(A25)>21,6,IF(ROW(A25)>3,2,0)))))) -> 0 | O27: =INDIRECT("'⑤Ⅱ_就労のための基本的事項（評価用）'!G"&29+((ROW(B25)-1)*31)+((COLUMN(B25)-1)*4)+IF(ROW(B25)>41,14,IF(ROW(B25)>35,12,IF(ROW(B25)>29,8,IF(ROW(B25)>21,6,IF(ROW(B25)>3,2,0)))))) -> 0 | P27: =INDIRECT("'⑤Ⅱ_就労のための基本的事項（評価用）'!G"&29+((ROW(C25)-1)*31)+((COLUMN(C25)-1)*4)+IF(ROW(C25)>41,14,IF(ROW(C25)>35,12,IF(ROW(C25)>29,8,IF(ROW(C25)>21,6,IF(ROW(C25)>3,2,0)))))) -> 0 | Q27: 日常生活動作 | R27: =IF($B27=FALSE,"",IF(D27-2<0,0,D27-2)) | S27: =IF($B27=FALSE,"",IF(E27-2<0,0,E27-2)) | T27: =IF(B27=FALSE,"",IF(S27-R27<0,0,S27-R27)) | U27: =IF(B27=FALSE,"",Q27)
A28: 推8 | B28: =IF(D28=FALSE,FALSE,TRUE) -> FALSE | C28: FALSE | D28: FALSE | E28: FALSE | F28: FALSE | G28: FALSE | H28: FALSE | I28: FALSE | J28: FALSE | K28: FALSE | L28: FALSE | M28: FALSE | N28: =INDIRECT("'⑤Ⅱ_就労のための基本的事項（評価用）'!G"&29+((ROW(A26)-1)*31)+((COLUMN(A26)-1)*4)+IF(ROW(A26)>41,14,IF(ROW(A26)>35,12,IF(ROW(A26)>29,8,IF(ROW(A26)>21,6,IF(ROW(A26)>3,2,0)))))) -> 0 | O28: =INDIRECT("'⑤Ⅱ_就労のための基本的事項（評価用）'!G"&29+((ROW(B26)-1)*31)+((COLUMN(B26)-1)*4)+IF(ROW(B26)>41,14,IF(ROW(B26)>35,12,IF(ROW(B26)>29,8,IF(ROW(B26)>21,6,IF(ROW(B26)>3,2,0)))))) -> 0 | P28: =INDIRECT("'⑤Ⅱ_就労のための基本的事項（評価用）'!G"&29+((ROW(C26)-1)*31)+((COLUMN(C26)-1)*4)+IF(ROW(C26)>41,14,IF(ROW(C26)>35,12,IF(ROW(C26)>29,8,IF(ROW(C26)>21,6,IF(ROW(C26)>3,2,0)))))) -> 0 | Q28: 身だしなみ | R28: =IF($B28=FALSE,"",IF(D28-2<0,0,D28-2)) | S28: =IF($B28=FALSE,"",IF(E28-2<0,0,E28-2)) | T28: =IF(B28=FALSE,"",IF(S28-R28<0,0,S28-R28)) | U28: =IF(B28=FALSE,"",Q28)
A29: 推9 | B29: =IF(D29=FALSE,FALSE,TRUE) -> TRUE | C29: FALSE | D29: TRUE | E29: FALSE | F29: FALSE | G29: FALSE | H29: FALSE | I29: FALSE | J29: FALSE | K29: FALSE | L29: TRUE | M29: FALSE | N29: =INDIRECT("'⑤Ⅱ_就労のための基本的事項（評価用）'!G"&29+((ROW(A27)-1)*31)+((COLUMN(A27)-1)*4)+IF(ROW(A27)>41,14,IF(ROW(A27)>35,12,IF(ROW(A27)>29,8,IF(ROW(A27)>21,6,IF(ROW(A27)>3,2,0)))))) -> 0 | O29: =INDIRECT("'⑤Ⅱ_就労のための基本的事項（評価用）'!G"&29+((ROW(B27)-1)*31)+((COLUMN(B27)-1)*4)+IF(ROW(B27)>41,14,IF(ROW(B27)>35,12,IF(ROW(B27)>29,8,IF(ROW(B27)>21,6,IF(ROW(B27)>3,2,0)))))) -> 0 | P29: =INDIRECT("'⑤Ⅱ_就労のための基本的事項（評価用）'!G"&29+((ROW(C27)-1)*31)+((COLUMN(C27)-1)*4)+IF(ROW(C27)>41,14,IF(ROW(C27)>35,12,IF(ROW(C27)>29,8,IF(ROW(C27)>21,6,IF(ROW(C27)>3,2,0)))))) -> 0 | Q29: 体調管理 | R29: =IF($B29=FALSE,"",IF(D29-2<0,0,D29-2)) -> 0 | S29: =IF($B29=FALSE,"",IF(E29-2<0,0,E29-2)) -> 0 | T29: =IF(B29=FALSE,"",IF(S29-R29<0,0,S29-R29)) -> 0 | U29: =IF(B29=FALSE,"",Q29) -> 体調管理
A30: 推10 | B30: =IF(D30=FALSE,FALSE,TRUE) -> FALSE | C30: FALSE | D30: FALSE | E30: FALSE | F30: TRUE | G30: FALSE | H30: FALSE | I30: TRUE | J30: FALSE | K30: FALSE | L30: FALSE | M30: TRUE | N30: =INDIRECT("'⑤Ⅱ_就労のための基本的事項（評価用）'!G"&29+((ROW(A28)-1)*31)+((COLUMN(A28)-1)*4)+IF(ROW(A28)>41,14,IF(ROW(A28)>35,12,IF(ROW(A28)>29,8,IF(ROW(A28)>21,6,IF(ROW(A28)>3,2,0)))))) -> 0 | O30: =INDIRECT("'⑤Ⅱ_就労のための基本的事項（評価用）'!G"&29+((ROW(B28)-1)*31)+((COLUMN(B28)-1)*4)+IF(ROW(B28)>41,14,IF(ROW(B28)>35,12,IF(ROW(B28)>29,8,IF(ROW(B28)>21,6,IF(ROW(B28)>3,2,0)))))) -> 0 | P30: =INDIRECT("'⑤Ⅱ_就労のための基本的事項（評価用）'!G"&29+((ROW(C28)-1)*31)+((COLUMN(C28)-1)*4)+IF(ROW(C28)>41,14,IF(ROW(C28)>35,12,IF(ROW(C28)>29,8,IF(ROW(C28)>21,6,IF(ROW(C28)>3,2,0)))))) -> 0 | Q30: 体調不良時の対処 | R30: =IF($B30=FALSE,"",IF(D30-2<0,0,D30-2)) | S30: =IF($B30=FALSE,"",IF(E30-2<0,0,E30-2)) | T30: =IF(B30=FALSE,"",IF(S30-R30<0,0,S30-R30)) | U30: =IF(B30=FALSE,"",Q30)
A31: 推11 | B31: =IF(D31=FALSE,FALSE,TRUE) -> FALSE | C31: FALSE | D31: FALSE | E31: FALSE | F31: FALSE | G31: TRUE | H31: FALSE | I31: FALSE | J31: FALSE | K31: FALSE | L31: FALSE | M31: FALSE | N31: =INDIRECT("'⑤Ⅱ_就労のための基本的事項（評価用）'!G"&29+((ROW(A29)-1)*31)+((COLUMN(A29)-1)*4)+IF(ROW(A29)>41,14,IF(ROW(A29)>35,12,IF(ROW(A29)>29,8,IF(ROW(A29)>21,6,IF(ROW(A29)>3,2,0)))))) -> 0 | O31: =INDIRECT("'⑤Ⅱ_就労のための基本的事項（評価用）'!G"&29+((ROW(B29)-1)*31)+((COLUMN(B29)-1)*4)+IF(ROW(B29)>41,14,IF(ROW(B29)>35,12,IF(ROW(B29)>29,8,IF(ROW(B29)>21,6,IF(ROW(B29)>3,2,0)))))) -> 0 | P31: =INDIRECT("'⑤Ⅱ_就労のための基本的事項（評価用）'!G"&29+((ROW(C29)-1)*31)+((COLUMN(C29)-1)*4)+IF(ROW(C29)>41,14,IF(ROW(C29)>35,12,IF(ROW(C29)>29,8,IF(ROW(C29)>21,6,IF(ROW(C29)>3,2,0)))))) -> 0 | Q31: 交通機関の利用 | R31: =IF($B31=FALSE,"",IF(D31-2<0,0,D31-2)) | S31: =IF($B31=FALSE,"",IF(E31-2<0,0,E31-2)) | T31: =IF(B31=FALSE,"",IF(S31-R31<0,0,S31-R31)) | U31: =IF(B31=FALSE,"",Q31)
A32: 選19 | B32: =IF(D32=FALSE,FALSE,TRUE) -> FALSE | C32: FALSE | D32: FALSE | E32: FALSE | F32: FALSE | G32: FALSE | H32: FALSE | I32: FALSE | J32: FALSE | K32: FALSE | L32: FALSE | M32: FALSE | N32: =INDIRECT("'⑤Ⅱ_就労のための基本的事項（評価用）'!G"&29+((ROW(A30)-1)*31)+((COLUMN(A30)-1)*4)+IF(ROW(A30)>41,14,IF(ROW(A30)>35,12,IF(ROW(A30)>29,8,IF(ROW(A30)>21,6,IF(ROW(A30)>3,2,0)))))) -> 0 | O32: =INDIRECT("'⑤Ⅱ_就労のための基本的事項（評価用）'!G"&29+((ROW(B30)-1)*31)+((COLUMN(B30)-1)*4)+IF(ROW(B30)>41,14,IF(ROW(B30)>35,12,IF(ROW(B30)>29,8,IF(ROW(B30)>21,6,IF(ROW(B30)>3,2,0)))))) -> 0 | P32: =INDIRECT("'⑤Ⅱ_就労のための基本的事項（評価用）'!G"&29+((ROW(C30)-1)*31)+((COLUMN(C30)-1)*4)+IF(ROW(C30)>41,14,IF(ROW(C30)>35,12,IF(ROW(C30)>29,8,IF(ROW(C30)>21,6,IF(ROW(C30)>3,2,0)))))) -> 0 | Q32: 書類手続き | R32: =IF($B32=FALSE,"",IF(D32-2<0,0,D32-2)) | S32: =IF($B32=FALSE,"",IF(E32-2<0,0,E32-2)) | T32: =IF(B32=FALSE,"",IF(S32-R32<0,0,S32-R32)) | U32: =IF(B32=FALSE,"",Q32)
A33: 選20 | B33: =IF(D33=FALSE,FALSE,TRUE) -> FALSE | C33: FALSE | D33: FALSE | E33: FALSE | F33: FALSE | G33: FALSE | H33: FALSE | I33: FALSE | J33: FALSE | K33: FALSE | L33: FALSE | M33: FALSE | N33: =INDIRECT("'⑤Ⅱ_就労のための基本的事項（評価用）'!G"&29+((ROW(A31)-1)*31)+((COLUMN(A31)-1)*4)+IF(ROW(A31)>41,14,IF(ROW(A31)>35,12,IF(ROW(A31)>29,8,IF(ROW(A31)>21,6,IF(ROW(A31)>3,2,0)))))) -> 0 | O33: =INDIRECT("'⑤Ⅱ_就労のための基本的事項（評価用）'!G"&29+((ROW(B31)-1)*31)+((COLUMN(B31)-1)*4)+IF(ROW(B31)>41,14,IF(ROW(B31)>35,12,IF(ROW(B31)>29,8,IF(ROW(B31)>21,6,IF(ROW(B31)>3,2,0)))))) -> 0 | P33: =INDIRECT("'⑤Ⅱ_就労のための基本的事項（評価用）'!G"&29+((ROW(C31)-1)*31)+((COLUMN(C31)-1)*4)+IF(ROW(C31)>41,14,IF(ROW(C31)>35,12,IF(ROW(C31)>29,8,IF(ROW(C31)>21,6,IF(ROW(C31)>3,2,0)))))) -> 0 | Q33: 労働条件の理解 | R33: =IF($B33=FALSE,"",IF(D33-2<0,0,D33-2)) | S33: =IF($B33=FALSE,"",IF(E33-2<0,0,E33-2)) | T33: =IF(B33=FALSE,"",IF(S33-R33<0,0,S33-R33)) | U33: =IF(B33=FALSE,"",Q33)
A34: 選21 | B34: =IF(D34=FALSE,FALSE,TRUE) -> FALSE | C34: FALSE | D34: FALSE | E34: FALSE | F34: FALSE | G34: FALSE | H34: FALSE | I34: FALSE | J34: FALSE | K34: FALSE | L34: FALSE | M34: FALSE | N34: =INDIRECT("'⑤Ⅱ_就労のための基本的事項（評価用）'!G"&29+((ROW(A32)-1)*31)+((COLUMN(A32)-1)*4)+IF(ROW(A32)>41,14,IF(ROW(A32)>35,12,IF(ROW(A32)>29,8,IF(ROW(A32)>21,6,IF(ROW(A32)>3,2,0)))))) -> 0 | O34: =INDIRECT("'⑤Ⅱ_就労のための基本的事項（評価用）'!G"&29+((ROW(B32)-1)*31)+((COLUMN(B32)-1)*4)+IF(ROW(B32)>41,14,IF(ROW(B32)>35,12,IF(ROW(B32)>29,8,IF(ROW(B32)>21,6,IF(ROW(B32)>3,2,0)))))) -> 0 | P34: =INDIRECT("'⑤Ⅱ_就労のための基本的事項（評価用）'!G"&29+((ROW(C32)-1)*31)+((COLUMN(C32)-1)*4)+IF(ROW(C32)>41,14,IF(ROW(C32)>35,12,IF(ROW(C32)>29,8,IF(ROW(C32)>21,6,IF(ROW(C32)>3,2,0)))))) -> 0 | Q34: 作業工程・流通の理解 | R34: =IF($B34=FALSE,"",IF(D34-2<0,0,D34-2)) | S34: =IF($B34=FALSE,"",IF(E34-2<0,0,E34-2)) | T34: =IF(B34=FALSE,"",IF(S34-R34<0,0,S34-R34)) | U34: =IF(B34=FALSE,"",Q34)
A35: 選22 | B35: =IF(D35=FALSE,FALSE,TRUE) -> FALSE | C35: FALSE | D35: FALSE | E35: FALSE | F35: FALSE | G35: FALSE | H35: FALSE | I35: FALSE | J35: FALSE | K35: FALSE | L35: TRUE | M35: FALSE | N35: =INDIRECT("'⑤Ⅱ_就労のための基本的事項（評価用）'!G"&29+((ROW(A33)-1)*31)+((COLUMN(A33)-1)*4)+IF(ROW(A33)>41,14,IF(ROW(A33)>35,12,IF(ROW(A33)>29,8,IF(ROW(A33)>21,6,IF(ROW(A33)>3,2,0)))))) -> 0 | O35: =INDIRECT("'⑤Ⅱ_就労のための基本的事項（評価用）'!G"&29+((ROW(B33)-1)*31)+((COLUMN(B33)-1)*4)+IF(ROW(B33)>41,14,IF(ROW(B33)>35,12,IF(ROW(B33)>29,8,IF(ROW(B33)>21,6,IF(ROW(B33)>3,2,0)))))) -> 0 | P35: =INDIRECT("'⑤Ⅱ_就労のための基本的事項（評価用）'!G"&29+((ROW(C33)-1)*31)+((COLUMN(C33)-1)*4)+IF(ROW(C33)>41,14,IF(ROW(C33)>35,12,IF(ROW(C33)>29,8,IF(ROW(C33)>21,6,IF(ROW(C33)>3,2,0)))))) -> 0 | Q35: 生活リズム | R35: =IF($B35=FALSE,"",IF(D35-2<0,0,D35-2)) | S35: =IF($B35=FALSE,"",IF(E35-2<0,0,E35-2)) | T35: =IF(B35=FALSE,"",IF(S35-R35<0,0,S35-R35)) | U35: =IF(B35=FALSE,"",Q35)
A36: 選23 | B36: =IF(D36=FALSE,FALSE,TRUE) -> FALSE | C36: FALSE | D36: FALSE | E36: FALSE | F36: FALSE | G36: FALSE | H36: FALSE | I36: FALSE | J36: FALSE | K36: FALSE | L36: FALSE | M36: FALSE | N36: =INDIRECT("'⑤Ⅱ_就労のための基本的事項（評価用）'!G"&29+((ROW(A34)-1)*31)+((COLUMN(A34)-1)*4)+IF(ROW(A34)>41,14,IF(ROW(A34)>35,12,IF(ROW(A34)>29,8,IF(ROW(A34)>21,6,IF(ROW(A34)>3,2,0)))))) -> 0 | O36: =INDIRECT("'⑤Ⅱ_就労のための基本的事項（評価用）'!G"&29+((ROW(B34)-1)*31)+((COLUMN(B34)-1)*4)+IF(ROW(B34)>41,14,IF(ROW(B34)>35,12,IF(ROW(B34)>29,8,IF(ROW(B34)>21,6,IF(ROW(B34)>3,2,0)))))) -> 0 | P36: =INDIRECT("'⑤Ⅱ_就労のための基本的事項（評価用）'!G"&29+((ROW(C34)-1)*31)+((COLUMN(C34)-1)*4)+IF(ROW(C34)>41,14,IF(ROW(C34)>35,12,IF(ROW(C34)>29,8,IF(ROW(C34)>21,6,IF(ROW(C34)>3,2,0)))))) -> 0 | Q36: ストレス管理 | R36: =IF($B36=FALSE,"",IF(D36-2<0,0,D36-2)) | S36: =IF($B36=FALSE,"",IF(E36-2<0,0,E36-2)) | T36: =IF(B36=FALSE,"",IF(S36-R36<0,0,S36-R36)) | U36: =IF(B36=FALSE,"",Q36)
A37: 選24 | B37: =IF(D37=FALSE,FALSE,TRUE) -> FALSE | C37: FALSE | D37: FALSE | E37: FALSE | F37: FALSE | G37: FALSE | H37: TRUE | I37: TRUE | J37: FALSE | K37: FALSE | L37: FALSE | M37: FALSE | N37: =INDIRECT("'⑤Ⅱ_就労のための基本的事項（評価用）'!G"&29+((ROW(A35)-1)*31)+((COLUMN(A35)-1)*4)+IF(ROW(A35)>41,14,IF(ROW(A35)>35,12,IF(ROW(A35)>29,8,IF(ROW(A35)>21,6,IF(ROW(A35)>3,2,0)))))) -> 0 | O37: =INDIRECT("'⑤Ⅱ_就労のための基本的事項（評価用）'!G"&29+((ROW(B35)-1)*31)+((COLUMN(B35)-1)*4)+IF(ROW(B35)>41,14,IF(ROW(B35)>35,12,IF(ROW(B35)>29,8,IF(ROW(B35)>21,6,IF(ROW(B35)>3,2,0)))))) -> 0 | P37: =INDIRECT("'⑤Ⅱ_就労のための基本的事項（評価用）'!G"&29+((ROW(C35)-1)*31)+((COLUMN(C35)-1)*4)+IF(ROW(C35)>41,14,IF(ROW(C35)>35,12,IF(ROW(C35)>29,8,IF(ROW(C35)>21,6,IF(ROW(C35)>3,2,0)))))) -> 0 | Q37: 通院・服薬 | R37: =IF($B37=FALSE,"",IF(D37-2<0,0,D37-2)) | S37: =IF($B37=FALSE,"",IF(E37-2<0,0,E37-2)) | T37: =IF(B37=FALSE,"",IF(S37-R37<0,0,S37-R37)) | U37: =IF(B37=FALSE,"",Q37)
A38: 推12 | B38: =IF(D38=FALSE,FALSE,TRUE) -> FALSE | C38: 5 | D38: FALSE | E38: FALSE | F38: FALSE | G38: FALSE | H38: FALSE | I38: FALSE | J38: TRUE | K38: FALSE | L38: FALSE | M38: FALSE | N38: =INDIRECT("'⑤Ⅱ_就労のための基本的事項（評価用）'!G"&29+((ROW(A36)-1)*31)+((COLUMN(A36)-1)*4)+IF(ROW(A36)>41,14,IF(ROW(A36)>35,12,IF(ROW(A36)>29,8,IF(ROW(A36)>21,6,IF(ROW(A36)>3,2,0)))))) -> 0 | O38: =INDIRECT("'⑤Ⅱ_就労のための基本的事項（評価用）'!G"&29+((ROW(B36)-1)*31)+((COLUMN(B36)-1)*4)+IF(ROW(B36)>41,14,IF(ROW(B36)>35,12,IF(ROW(B36)>29,8,IF(ROW(B36)>21,6,IF(ROW(B36)>3,2,0)))))) -> 0 | P38: =INDIRECT("'⑤Ⅱ_就労のための基本的事項（評価用）'!G"&29+((ROW(C36)-1)*31)+((COLUMN(C36)-1)*4)+IF(ROW(C36)>41,14,IF(ROW(C36)>35,12,IF(ROW(C36)>29,8,IF(ROW(C36)>21,6,IF(ROW(C36)>3,2,0)))))) -> 0 | Q38: 挨拶・返事 | R38: =IF($B38=FALSE,"",IF(D38-2<0,0,D38-2)) | S38: =IF($B38=FALSE,"",IF(E38-2<0,0,E38-2)) | T38: =IF(B38=FALSE,"",IF(S38-R38<0,0,S38-R38)) | U38: =IF(B38=FALSE,"",Q38)
A39: 推13 | B39: =IF(D39=FALSE,FALSE,TRUE) -> FALSE | C39: FALSE | D39: FALSE | E39: FALSE | F39: FALSE | G39: FALSE | H39: FALSE | I39: FALSE | J39: FALSE | K39: FALSE | L39: FALSE | M39: FALSE | N39: =INDIRECT("'⑤Ⅱ_就労のための基本的事項（評価用）'!G"&29+((ROW(A37)-1)*31)+((COLUMN(A37)-1)*4)+IF(ROW(A37)>41,14,IF(ROW(A37)>35,12,IF(ROW(A37)>29,8,IF(ROW(A37)>21,6,IF(ROW(A37)>3,2,0)))))) -> 0 | O39: =INDIRECT("'⑤Ⅱ_就労のための基本的事項（評価用）'!G"&29+((ROW(B37)-1)*31)+((COLUMN(B37)-1)*4)+IF(ROW(B37)>41,14,IF(ROW(B37)>35,12,IF(ROW(B37)>29,8,IF(ROW(B37)>21,6,IF(ROW(B37)>3,2,0)))))) -> 0 | P39: =INDIRECT("'⑤Ⅱ_就労のための基本的事項（評価用）'!G"&29+((ROW(C37)-1)*31)+((COLUMN(C37)-1)*4)+IF(ROW(C37)>41,14,IF(ROW(C37)>35,12,IF(ROW(C37)>29,8,IF(ROW(C37)>21,6,IF(ROW(C37)>3,2,0)))))) -> 0 | Q39: 同僚や上司との会話 | R39: =IF($B39=FALSE,"",IF(D39-2<0,0,D39-2)) | S39: =IF($B39=FALSE,"",IF(E39-2<0,0,E39-2)) | T39: =IF(B39=FALSE,"",IF(S39-R39<0,0,S39-R39)) | U39: =IF(B39=FALSE,"",Q39)
A40: 推14 | B40: =IF(D40=FALSE,FALSE,TRUE) -> FALSE | C40: FALSE | D40: FALSE | E40: FALSE | F40: FALSE | G40: FALSE | H40: FALSE | I40: FALSE | J40: FALSE | K40: FALSE | L40: FALSE | M40: FALSE | N40: =INDIRECT("'⑤Ⅱ_就労のための基本的事項（評価用）'!G"&29+((ROW(A38)-1)*31)+((COLUMN(A38)-1)*4)+IF(ROW(A38)>41,14,IF(ROW(A38)>35,12,IF(ROW(A38)>29,8,IF(ROW(A38)>21,6,IF(ROW(A38)>3,2,0)))))) -> 0 | O40: =INDIRECT("'⑤Ⅱ_就労のための基本的事項（評価用）'!G"&29+((ROW(B38)-1)*31)+((COLUMN(B38)-1)*4)+IF(ROW(B38)>41,14,IF(ROW(B38)>35,12,IF(ROW(B38)>29,8,IF(ROW(B38)>21,6,IF(ROW(B38)>3,2,0)))))) -> 0 | P40: =INDIRECT("'⑤Ⅱ_就労のための基本的事項（評価用）'!G"&29+((ROW(C38)-1)*31)+((COLUMN(C38)-1)*4)+IF(ROW(C38)>41,14,IF(ROW(C38)>35,12,IF(ROW(C38)>29,8,IF(ROW(C38)>21,6,IF(ROW(C38)>3,2,0)))))) -> 0 | Q40: 相手への伝達 | R40: =IF($B40=FALSE,"",IF(D40-2<0,0,D40-2)) | S40: =IF($B40=FALSE,"",IF(E40-2<0,0,E40-2)) | T40: =IF(B40=FALSE,"",IF(S40-R40<0,0,S40-R40)) | U40: =IF(B40=FALSE,"",Q40)
A41: 推15 | B41: =IF(D41=FALSE,FALSE,TRUE) -> FALSE | C41: FALSE | D41: FALSE | E41: FALSE | F41: FALSE | G41: FALSE | H41: FALSE | I41: FALSE | J41: FALSE | K41: FALSE | L41: FALSE | M41: FALSE | N41: =INDIRECT("'⑤Ⅱ_就労のための基本的事項（評価用）'!G"&29+((ROW(A39)-1)*31)+((COLUMN(A39)-1)*4)+IF(ROW(A39)>41,14,IF(ROW(A39)>35,12,IF(ROW(A39)>29,8,IF(ROW(A39)>21,6,IF(ROW(A39)>3,2,0)))))) -> 0 | O41: =INDIRECT("'⑤Ⅱ_就労のための基本的事項（評価用）'!G"&29+((ROW(B39)-1)*31)+((COLUMN(B39)-1)*4)+IF(ROW(B39)>41,14,IF(ROW(B39)>35,12,IF(ROW(B39)>29,8,IF(ROW(B39)>21,6,IF(ROW(B39)>3,2,0)))))) -> 0 | P41: =INDIRECT("'⑤Ⅱ_就労のための基本的事項（評価用）'!G"&29+((ROW(C39)-1)*31)+((COLUMN(C39)-1)*4)+IF(ROW(C39)>41,14,IF(ROW(C39)>35,12,IF(ROW(C39)>29,8,IF(ROW(C39)>21,6,IF(ROW(C39)>3,2,0)))))) -> 0 | Q41: 相手への応答 | R41: =IF($B41=FALSE,"",IF(D41-2<0,0,D41-2)) | S41: =IF($B41=FALSE,"",IF(E41-2<0,0,E41-2)) | T41: =IF(B41=FALSE,"",IF(S41-R41<0,0,S41-R41)) | U41: =IF(B41=FALSE,"",Q41)
A42: 推16 | B42: =IF(D42=FALSE,FALSE,TRUE) -> FALSE | C42: 5 | D42: FALSE | E42: FALSE | F42: FALSE | G42: FALSE | H42: FALSE | I42: FALSE | J42: TRUE | K42: FALSE | L42: FALSE | M42: FALSE | N42: =INDIRECT("'⑤Ⅱ_就労のための基本的事項（評価用）'!G"&29+((ROW(A40)-1)*31)+((COLUMN(A40)-1)*4)+IF(ROW(A40)>41,14,IF(ROW(A40)>35,12,IF(ROW(A40)>29,8,IF(ROW(A40)>21,6,IF(ROW(A40)>3,2,0)))))) -> 0 | O42: =INDIRECT("'⑤Ⅱ_就労のための基本的事項（評価用）'!G"&29+((ROW(B40)-1)*31)+((COLUMN(B40)-1)*4)+IF(ROW(B40)>41,14,IF(ROW(B40)>35,12,IF(ROW(B40)>29,8,IF(ROW(B40)>21,6,IF(ROW(B40)>3,2,0)))))) -> 0 | P42: =INDIRECT("'⑤Ⅱ_就労のための基本的事項（評価用）'!G"&29+((ROW(C40)-1)*31)+((COLUMN(C40)-1)*4)+IF(ROW(C40)>41,14,IF(ROW(C40)>35,12,IF(ROW(C40)>29,8,IF(ROW(C40)>21,6,IF(ROW(C40)>3,2,0)))))) -> 0 | Q42: 報告・連絡・相談 | R42: =IF($B42=FALSE,"",IF(D42-2<0,0,D42-2)) | S42: =IF($B42=FALSE,"",IF(E42-2<0,0,E42-2)) | T42: =IF(B42=FALSE,"",IF(S42-R42<0,0,S42-R42)) | U42: =IF(B42=FALSE,"",Q42)
A43: 推17 | B43: =IF(D43=FALSE,FALSE,TRUE) -> TRUE | C43: FALSE | D43: 2 | E43: FALSE | F43: FALSE | G43: FALSE | H43: FALSE | I43: FALSE | J43: FALSE | K43: FALSE | L43: FALSE | M43: FALSE | N43: =INDIRECT("'⑤Ⅱ_就労のための基本的事項（評価用）'!G"&29+((ROW(A41)-1)*31)+((COLUMN(A41)-1)*4)+IF(ROW(A41)>41,14,IF(ROW(A41)>35,12,IF(ROW(A41)>29,8,IF(ROW(A41)>21,6,IF(ROW(A41)>3,2,0)))))) -> 0 | O43: =INDIRECT("'⑤Ⅱ_就労のための基本的事項（評価用）'!G"&29+((ROW(B41)-1)*31)+((COLUMN(B41)-1)*4)+IF(ROW(B41)>41,14,IF(ROW(B41)>35,12,IF(ROW(B41)>29,8,IF(ROW(B41)>21,6,IF(ROW(B41)>3,2,0)))))) -> 0 | P43: =INDIRECT("'⑤Ⅱ_就労のための基本的事項（評価用）'!G"&29+((ROW(C41)-1)*31)+((COLUMN(C41)-1)*4)+IF(ROW(C41)>41,14,IF(ROW(C41)>35,12,IF(ROW(C41)>29,8,IF(ROW(C41)>21,6,IF(ROW(C41)>3,2,0)))))) -> 0 | Q43: 感情のコントロール | R43: =IF($B43=FALSE,"",IF(D43-2<0,0,D43-2)) -> 0 | S43: =IF($B43=FALSE,"",IF(E43-2<0,0,E43-2)) -> 0 | T43: =IF(B43=FALSE,"",IF(S43-R43<0,0,S43-R43)) -> 0 | U43: =IF(B43=FALSE,"",Q43) -> 感情のコントロール
A44: 選25 | B44: =IF(D44=FALSE,FALSE,TRUE) -> FALSE | C44: 5 | D44: FALSE | E44: FALSE | F44: FALSE | G44: FALSE | H44: FALSE | I44: FALSE | J44: TRUE | K44: FALSE | L44: FALSE | M44: FALSE | N44: =INDIRECT("'⑤Ⅱ_就労のための基本的事項（評価用）'!G"&29+((ROW(A42)-1)*31)+((COLUMN(A42)-1)*4)+IF(ROW(A42)>41,14,IF(ROW(A42)>35,12,IF(ROW(A42)>29,8,IF(ROW(A42)>21,6,IF(ROW(A42)>3,2,0)))))) -> 0 | O44: =INDIRECT("'⑤Ⅱ_就労のための基本的事項（評価用）'!G"&29+((ROW(B42)-1)*31)+((COLUMN(B42)-1)*4)+IF(ROW(B42)>41,14,IF(ROW(B42)>35,12,IF(ROW(B42)>29,8,IF(ROW(B42)>21,6,IF(ROW(B42)>3,2,0)))))) -> 0 | P44: =INDIRECT("'⑤Ⅱ_就労のための基本的事項（評価用）'!G"&29+((ROW(C42)-1)*31)+((COLUMN(C42)-1)*4)+IF(ROW(C42)>41,14,IF(ROW(C42)>35,12,IF(ROW(C42)>29,8,IF(ROW(C42)>21,6,IF(ROW(C42)>3,2,0)))))) -> 0 | Q44: 言葉遣い | R44: =IF($B44=FALSE,"",IF(D44-2<0,0,D44-2)) | S44: =IF($B44=FALSE,"",IF(E44-2<0,0,E44-2)) | T44: =IF(B44=FALSE,"",IF(S44-R44<0,0,S44-R44)) | U44: =IF(B44=FALSE,"",Q44)
A45: 選26 | B45: =IF(D45=FALSE,FALSE,TRUE) -> FALSE | C45: FALSE | D45: FALSE | E45: FALSE | F45: FALSE | G45: FALSE | H45: FALSE | I45: FALSE | J45: FALSE | K45: FALSE | L45: FALSE | M45: FALSE | N45: =INDIRECT("'⑤Ⅱ_就労のための基本的事項（評価用）'!G"&29+((ROW(A43)-1)*31)+((COLUMN(A43)-1)*4)+IF(ROW(A43)>41,14,IF(ROW(A43)>35,12,IF(ROW(A43)>29,8,IF(ROW(A43)>21,6,IF(ROW(A43)>3,2,0)))))) -> 0 | O45: =INDIRECT("'⑤Ⅱ_就労のための基本的事項（評価用）'!G"&29+((ROW(B43)-1)*31)+((COLUMN(B43)-1)*4)+IF(ROW(B43)>41,14,IF(ROW(B43)>35,12,IF(ROW(B43)>29,8,IF(ROW(B43)>21,6,IF(ROW(B43)>3,2,0)))))) -> 0 | P45: =INDIRECT("'⑤Ⅱ_就労のための基本的事項（評価用）'!G"&29+((ROW(C43)-1)*31)+((COLUMN(C43)-1)*4)+IF(ROW(C43)>41,14,IF(ROW(C43)>35,12,IF(ROW(C43)>29,8,IF(ROW(C43)>21,6,IF(ROW(C43)>3,2,0)))))) -> 0 | Q45: 役割分担の理解 | R45: =IF($B45=FALSE,"",IF(D45-2<0,0,D45-2)) | S45: =IF($B45=FALSE,"",IF(E45-2<0,0,E45-2)) | T45: =IF(B45=FALSE,"",IF(S45-R45<0,0,S45-R45)) | U45: =IF(B45=FALSE,"",Q45)
A46: 選27 | B46: =IF(D46=FALSE,FALSE,TRUE) -> FALSE | C46: FALSE | D46: FALSE | E46: TRUE | F46: FALSE | G46: FALSE | H46: FALSE | I46: FALSE | J46: FALSE | K46: FALSE | L46: FALSE | M46: FALSE | N46: =INDIRECT("'⑤Ⅱ_就労のための基本的事項（評価用）'!G"&29+((ROW(A44)-1)*31)+((COLUMN(A44)-1)*4)+IF(ROW(A44)>41,14,IF(ROW(A44)>35,12,IF(ROW(A44)>29,8,IF(ROW(A44)>21,6,IF(ROW(A44)>3,2,0)))))) -> 0 | O46: =INDIRECT("'⑤Ⅱ_就労のための基本的事項（評価用）'!G"&29+((ROW(B44)-1)*31)+((COLUMN(B44)-1)*4)+IF(ROW(B44)>41,14,IF(ROW(B44)>35,12,IF(ROW(B44)>29,8,IF(ROW(B44)>21,6,IF(ROW(B44)>3,2,0)))))) -> 0 | P46: =INDIRECT("'⑤Ⅱ_就労のための基本的事項（評価用）'!G"&29+((ROW(C44)-1)*31)+((COLUMN(C44)-1)*4)+IF(ROW(C44)>41,14,IF(ROW(C44)>35,12,IF(ROW(C44)>29,8,IF(ROW(C44)>21,6,IF(ROW(C44)>3,2,0)))))) -> 0 | Q46: 共同作業 | R46: =IF($B46=FALSE,"",IF(D46-2<0,0,D46-2)) | S46: =IF($B46=FALSE,"",IF(E46-2<0,0,E46-2)) | T46: =IF(B46=FALSE,"",IF(S46-R46<0,0,S46-R46)) | U46: =IF(B46=FALSE,"",Q46)
A47: 備考 | B47: ='⑤Ⅱ_就労のための基本的事項（評価用）'!B184 -> 0

Sheet DB（Ⅲ）
A1: 項目 | B1: 項目内容(短縮) | C1: 回答
A2: 【 職務への適応 】 | B2: =IF(OR(C2,C12<>0,COUNTIF(C3:C11,TRUE)>0),A2,"") -> #REF! | C2: FALSE
A3: 1_1 | B3: 仕事の種類や内容 | C3: FALSE
A4: 1_2 | B4: 内容の変更がある場合 | C4: FALSE
A5: 1_3 | B5: 仕事の量 | C5: FALSE
A6: 1_4 | B6: 指示方法や教わり方 | C6: FALSE
A7: 1_5 | B7: 仕事内容の理解 | C7: FALSE
A8: 1_6 | B8: 仕事の正確さ | C8: FALSE
A9: 1_7 | B9: 仕事に慣れた後の任せ方 | C9: FALSE
A10: 1_8 | B10: モチベーションの維持 | C10: FALSE
A11: 1_9 | B11: その他の事項 | C11: FALSE
A12: 1_10 | B12: 記述 | C12: =#REF! -> #REF!
A13: 【 労働条件の設定・変更 】 | B13: =IF(OR(C13,C18<>0,COUNTIF(C14:C17,TRUE)>0),A13,"") -> #REF! | C13: FALSE
A14: 2_1 | B14: 労働時間の設定 | C14: FALSE
A15: 2_2 | B15: 労働時間の変更 | C15: FALSE
A16: 2_3 | B16: 勤務形態の変更 | C16: FALSE
A17: 2_4 | B17: その他の事項 | C17: FALSE
A18: 2_5 | B18: 記述 | C18: =#REF! -> #REF!
A19: 【 職場の人に障害のことを理解し配慮してもらうこと 】 | B19: =IF(OR(C19,C24<>0,COUNTIF(C20:C23,TRUE)>0),A19,"") -> #REF! | C19: FALSE
A20: 3_1 | B20: 同僚や上司の理解 | C20: FALSE
A21: 3_2 | B21: 経営者等の理解 | C21: FALSE
A22: 3_3 | B22: 同僚や上司等の配慮 | C22: FALSE
A23: 3_4 | B23: その他の事項 | C23: FALSE
A24: 3_5 | B24: 記述 | C24: =#REF! -> #REF!
A25: 【 職場の設備・機器等 】 | B25: =IF(OR(C25,C30<>0,COUNTIF(C26:C29,TRUE)>0),A25,"") -> #REF! | C25: FALSE
A26: 4_1 | B26: 設備の整備 | C26: FALSE
A27: 4_2 | B27: 機器や道具等の使用 | C27: FALSE
A28: 4_3 | B28: 感覚過敏や身体症状の影響 | C28: FALSE
A29: 4_4 | B29: その他の事項 | C29: FALSE
A30: 4_5 | B30: 記述 | C30: =#REF! -> #REF!
A31: 【 職場のルールや指示を理解し守ること 】 | B31: =IF(OR(C31,C36<>0,COUNTIF(C32:C35,TRUE)>0),A31,"") -> #REF! | C31: FALSE
A32: 5_1 | B32: 職場のルールの理解 | C32: FALSE
A33: 5_2 | B33: 欠勤・遅刻・早退 | C33: FALSE
A34: 5_3 | B34: 上司等からの指示の理解 | C34: FALSE
A35: 5_4 | B35: その他の事項 | C35: FALSE
A36: 5_5 | B36: 記述 | C36: =#REF! -> #REF!
A37: 【 職場での適応行動・態度 】 | B37: =IF(OR(C37,C44<>0,COUNTIF(C38:C43,TRUE)>0),A37,"") -> #REF! | C37: FALSE
A38: 6_1 | B38: 安定した勤務 | C38: FALSE
A39: 6_2 | B39: 環境への慣れによる課題 | C39: FALSE
A40: 6_3 | B40: 職場の相談体制 | C40: FALSE
A41: 6_4 | B41: 頑張りすぎへの対処 | C41: FALSE
A42: 6_5 | B42: こだわりや考え方の特徴 | C42: FALSE
A43: 6_6 | B43: その他の事項 | C43: FALSE
A44: 6_7 | B44: 記述 | C44: =#REF! -> #REF!
A45: 【 体調、疲労・ストレス、不安、感情コントロール等 】 | B45: =IF(OR(C45,C53<>0,COUNTIF(C46:C52,TRUE)>0),A45,"") -> #REF! | C45: FALSE
A46: 7_1 | B46: 体調の悪化予防 | C46: FALSE
A47: 7_2 | B47: 気分の安定の維持 | C47: FALSE
A48: 7_3 | B48: 生活リズムや生活習慣 | C48: FALSE
A49: 7_4 | B49: 疲労・ストレスへの対処 | C49: FALSE
A50: 7_5 | B50: 不安への対処 | C50: FALSE
A51: 7_6 | B51: 感情のコントロールへの対処 | C51: FALSE
A52: 7_7 | B52: その他の事項 | C52: FALSE
A53: 7_8 | B53: 記述 | C53: =#REF! -> #REF!
A54: 【 症状の悪化・再発、二次障害 】 | B54: =IF(OR(C54,C60<>0,COUNTIF(C55:C59,TRUE)>0),A54,"") -> #REF! | C54: FALSE
A55: 8_1 | B55: 症状の悪化や再発予防 | C55: FALSE
A56: 8_2 | B56: 病気の進行への備え | C56: FALSE
A57: 8_3 | B57: 服薬管理や通院 | C57: FALSE
A58: 8_4 | B58: 二次障害の予防 | C58: FALSE
A59: 8_5 | B59: その他の事項 | C59: FALSE
A60: 8_6 | B60: 記述 | C60: =#REF! -> #REF!
A61: 【 家族のサポート、家庭環境の変化、友人等との関係性 】 | B61: =IF(OR(C61,C68<>0,COUNTIF(C62:C67,TRUE)>0),A61,"") -> #REF! | C61: FALSE
A62: 9_1 | B62: 家族からのサポート | C62: FALSE
A63: 9_2 | B63: 家族との関係性 | C63: FALSE
A64: 9_3 | B64: 家庭環境の変化 | C64: FALSE
A65: 9_4 | B65: 友人・知人との関係性 | C65: FALSE
A66: 9_5 | B66: 金銭管理 | C66: FALSE
A67: 9_6 | B67: その他の事項 | C67: FALSE
A68: 9_7 | B68: 記述 | C68: =#REF! -> #REF!
A69: 【 職場の人間関係 】 | B69: =IF(OR(C69,C74<>0,COUNTIF(C70:C73,TRUE)>0),A69,"") -> #REF! | C69: FALSE
A70: 10_1 | B70: 職場の人間関係の維持 | C70: FALSE
A71: 10_2 | B71: 上司等の異動時の引き継ぎ | C71: FALSE
A72: 10_3 | B72: 職場の対人コミュニケーション | C72: FALSE
A73: 10_4 | B73: その他の事項 | C73: FALSE
A74: 10_5 | B74: 記述 | C74: =#REF! -> #REF!

Sheet DB（α）
A1: 項目 | B1: シート | C1: 回答
A2: 対象者_ふりがな | B2: ①表紙,⑤結果シート | C2: =#REF! -> #REF!
A3: 対象者_漢字 | B3: ①表紙,⑤結果シート | C3: =#REF! -> #REF!
A4: 支援者_ふりがな | B4: ①表紙,⑤結果シート | C4: =#REF! -> #REF!
A5: 支援者_漢字 | B5: ①表紙,⑤結果シート | C5: =#REF! -> #REF!
A6: 作成年(今回) | B6: ⑤結果シート | C6: =#REF! -> #REF!
A7: 作成月(今回) | B7: ⑤結果シート | C7: =#REF! -> #REF!
A8: 作成日(今回) | B8: ⑤結果シート | C8: =#REF! -> #REF!
A9: 作成年(前回) | B9: ⑤結果シート | C9: =#REF! -> #REF!
A10: 作成月(前回) | B10: ⑤結果シート | C10: =#REF! -> #REF!
A11: 作成日(前回) | B11: ⑤結果シート | C11: =#REF! -> #REF!
A12: 生年 | B12: ⑤結果シート | C12: =#REF! -> #REF!
A13: 生月 | B13: ⑤結果シート | C13: =#REF! -> #REF!
... A20: 必要な支援と配慮 | B20: ⑤結果シート | C20: =#REF! -> #REF!

Sheet work
J1: 5 | Q1: 4 | X1: 3 | AE1: 2
A2: VlookupTable | D2: Footnote
A3: 5 | B3: A | D3: 特になし
A4: 4 | B4: B | D4: ※「作業の上達」についてはBの評価段階が存在しない。
A5: 3 | B5: C | D5: =IF('DB（Ⅱ）'!B8=FALSE,"",D4) -> ※「作業の上達」についてはBの評価段階が存在しない。
A6: 2 | B6: ?
A7: CheckingList | H7: Ver.2023 | I7: :Unused
A8: Ⅰ_6 | B8: =IF('DB（Ⅰ）'!$C$47,'DB（Ⅰ）'!$B$47,"")&IF('DB（Ⅰ）'!$C$47,IF('DB（Ⅰ）'!$C$48,"、"&'DB（Ⅰ）'!$B$48,""),IF('DB（Ⅰ）'!$C$48,'DB（Ⅰ）'!$B$48,""))&IF(COUNTIF('DB（Ⅰ）'!$C$47:$C$48,TRUE)<>0,IF('DB（Ⅰ）'!$C$49,"、"&'DB（Ⅰ）'!$B$49,""),IF('DB（Ⅰ）'!$C$49,'DB（Ⅰ）'!$B$49,""))&IF(COUNTIF('DB（Ⅰ）'!$C$47:$C$49,TRUE)<>0,IF('DB（Ⅰ）'!$C$50,"、"&'DB（Ⅰ）'!$B$50,""),IF('DB（Ⅰ）'!$C$50,'DB（Ⅰ）'!$B$50,""))&IF(COUNTIF('DB（Ⅰ）'!$C$47:$C$50,TRUE)<>0,IF('DB（Ⅰ）'!$C$51,"、"&'DB（Ⅰ）'!$B$51,""),IF('DB（Ⅰ）'!$C$51,'DB（Ⅰ）'!$B$51,""))&IF(COUNTIF('DB（Ⅰ）'!$C$47:$C$51,TRUE)<>0,IF('DB（Ⅰ）'!$C$52,"、"&'DB（Ⅰ）'!$B$52,""),IF('DB（Ⅰ）'!$C$52,'DB（Ⅰ）'!$B$52,""))&IF(COUNTIF('DB（Ⅰ）'!$C$47:$C$52,TRUE)<>0,IF('DB（Ⅰ）'!$C$53,"、"&'DB（Ⅰ）'!$B$53,""),IF('DB（Ⅰ）'!$C$53,'DB（Ⅰ）'!$B$53,""))&IF(COUNTIF('DB（Ⅰ）'!$C$47:$C$53,TRUE)<>0,IF('DB（Ⅰ）'!$C$55,"、"&'DB（Ⅰ）'!$B$55,""),IF('DB（Ⅰ）'!$C$55,'DB（Ⅰ）'!$B$55,"")) | D8: AdjustHeight | H8: CharacterLimit
A9: Ⅲ_1 | B9: =IF('DB（Ⅲ）'!$C$3,'DB（Ⅲ）'!$B$3,"")&IF('DB（Ⅲ）'!$C$3,IF('DB（Ⅲ）'!$C$4,"、"&'DB（Ⅲ）'!$B$4,""),IF('DB（Ⅲ）'!$C$4,'DB（Ⅲ）'!$B$4,""))&IF(COUNTIF('DB（Ⅲ）'!$C$3:$C$4,TRUE)<>0,IF('DB（Ⅲ）'!$C$5,"、"&'DB（Ⅲ）'!$B$5,""),IF('DB（Ⅲ）'!$C$5,'DB（Ⅲ）'!$B$5,""))&IF(COUNTIF('DB（Ⅲ）'!$C$3:$C$5,TRUE)<>0,IF('DB（Ⅲ）'!$C$6,"、"&'DB（Ⅲ）'!$B$6,""),IF('DB（Ⅲ）'!$C$6,'DB（Ⅲ）'!$B$6,""))&IF(COUNTIF('DB（Ⅲ）'!$C$3:$C$6,TRUE)<>0,IF('DB（Ⅲ）'!$C$7,"、"&'DB（Ⅲ）'!$B$7,""),IF('DB（Ⅲ）'!$C$7,'DB（Ⅲ）'!$B$7,""))&IF(COUNTIF('DB（Ⅲ）'!$C$3:$C$7,TRUE)<>0,IF('DB（Ⅲ）'!$C$8,"、"&'DB（Ⅲ）'!$B$8,""),IF('DB（Ⅲ）'!$C$8,'DB（Ⅲ）'!$B$8,""))&IF(COUNTIF('DB（Ⅲ）'!$C$3:$C$8,TRUE)<>0,IF('DB（Ⅲ）'!$C$9,"、"&'DB（Ⅲ）'!$B$9,""),IF('DB（Ⅲ）'!$C$9,'DB（Ⅲ）'!$B$9,""))&IF(COUNTIF('DB（Ⅲ）'!$C$3:$C$9,TRUE)<>0,IF('DB（Ⅲ）'!$C$10,"、"&'DB（Ⅲ）'!$B$10,""),IF('DB（Ⅲ）'!$C$10,'DB（Ⅲ）'!$B$10,""))&IF(COUNTIF('DB（Ⅲ）'!$C$3:$C$10,TRUE)<>0,IF('DB（Ⅲ）'!$C$11,"、"&'DB（Ⅲ）'!$B$11,""),IF('DB（Ⅲ）'!$C$11,'DB（Ⅲ）'!$B$11,"")) | D9: ③Ⅰ_就労に関する希望・ニーズ! | H9: 職種・仕事の内容に関する希望 | I9: =LEFT(SUBSTITUTE(SUBSTITUTE(SUBSTITUTE('DB（Ⅰ）'!C82,CHAR(10),"")," ","")," ",""),82) -> #REF!
A10: Ⅲ_2 | B10: =IF('DB（Ⅲ）'!$C$14,'DB（Ⅲ）'!$B$14,"")&IF('DB（Ⅲ）'!$C$14,IF('DB（Ⅲ）'!$C$15,"、"&'DB（Ⅲ）'!$B$15,""),IF('DB（Ⅲ）'!$C$15,'DB（Ⅲ）'!$B$15,""))&IF(COUNTIF('DB（Ⅲ）'!$C$14:$C$15,TRUE)<>0,IF('DB（Ⅲ）'!$C$16,"、"&'DB（Ⅲ）'!$B$16,""),IF('DB（Ⅲ）'!$C$16,'DB（Ⅲ）'!$B$16,""))&IF(COUNTIF('DB（Ⅲ）'!$C$14:$C$16,TRUE)<>0,IF('DB（Ⅲ）'!$C$17,"、"&'DB（Ⅲ）'!$B$17,""),IF('DB（Ⅲ）'!$C$17,'DB（Ⅲ）'!$B$17,"")) | D10: 2_1 | E10: =REPT(""&CHAR(10)&"",INT(LEN(#REF!)/18)+(LEN(#REF!)-LEN(SUBSTITUTE(#REF!,CHAR(10),"")))) -> #REF! | H10: 希望する配慮等 | I10: =LEFT(SUBSTITUTE(SUBSTITUTE(SUBSTITUTE('DB（Ⅰ）'!C148,CHAR(10),"")," ","")," ",""),96) -> #REF!
A11: Ⅲ_3 | B11: =IF('DB（Ⅲ）'!$C$20,'DB（Ⅲ）'!$B$20,"")&IF('DB（Ⅲ）'!$C$20,IF('DB（Ⅲ）'!$C$21,"、"&'DB（Ⅲ）'!$B$21,""),IF('DB（Ⅲ）'!$C$21,'DB（Ⅲ）'!$B$21,""))&IF(COUNTIF('DB（Ⅲ）'!$C$20:$C$21,TRUE)<>0,IF('DB（Ⅲ）'!$C$22,"、"&'DB（Ⅲ）'!$B$22,""),IF('DB（Ⅲ）'!$C$22,'DB（Ⅲ）'!$B$22,""))&IF(COUNTIF('DB（Ⅲ）'!$C$20:$C$22,TRUE)<>0,IF('DB（Ⅲ）'!$C$23,"、"&'DB（Ⅲ）'!$B$23,""),IF('DB（Ⅲ）'!$C$23,'DB（Ⅲ）'!$B$23,"")) | D11: 2_2 | E11: =REPT(""&CHAR(10)&"",INT(LEN(#REF!)/18)+(LEN(#REF!)-LEN(SUBSTITUTE(#REF!,CHAR(10),"")))) -> #REF! | H11: 希望する支援 | I11: =LEFT(SUBSTITUTE(SUBSTITUTE(SUBSTITUTE('DB（Ⅰ）'!C164,CHAR(10),"")," ","")," ",""),96) -> #REF!
A12: Ⅲ_4 | B12: =IF('DB（Ⅲ）'!$C$26,'DB（Ⅲ）'!$B$26,"")&IF('DB（Ⅲ）'!$C$26,IF('DB（Ⅲ）'!$C$27,"、"&'DB（Ⅲ）'!$B$27,""),IF('DB（Ⅲ）'!$C$27,'DB（Ⅲ）'!$B$27,""))&IF(COUNTIF('DB（Ⅲ）'!$C$26:$C$27,TRUE)<>0,IF('DB（Ⅲ）'!$C$28,"、"&'DB（Ⅲ）'!$B$28,""),IF('DB（Ⅲ）'!$C$28,'DB（Ⅲ）'!$B$28,""))&IF(COUNTIF('DB（Ⅲ）'!$C$26:$C$28,TRUE)<>0,IF('DB（Ⅲ）'!$C$29,"、"&'DB（Ⅲ）'!$B$29,""),IF('DB（Ⅲ）'!$C$29,'DB（Ⅲ）'!$B$29,"")) | D12: 2_3 | E12: =REPT(""&CHAR(10)&"",INT(LEN(#REF!)/18)+(LEN(#REF!)-LEN(SUBSTITUTE(#REF!,CHAR(10),"")))) -> #REF!
A13: Ⅲ_5 | B13: =IF('DB（Ⅲ）'!$C$32,'DB（Ⅲ）'!$B$32,"")&IF('DB（Ⅲ）'!$C$32,IF('DB（Ⅲ）'!$C$33,"、"&'DB（Ⅲ）'!$B$33,""),IF('DB（Ⅲ）'!$C$33,'DB（Ⅲ）'!$B$33,""))&IF(COUNTIF('DB（Ⅲ）'!$C$32:$C$33,TRUE)<>0,IF('DB（Ⅲ）'!$C$34,"、"&'DB（Ⅲ）'!$B$34,""),IF('DB（Ⅲ）'!$C$34,'DB（Ⅲ）'!$B$34,""))&IF(COUNTIF('DB（Ⅲ）'!$C$32:$C$34,TRUE)<>0,IF('DB（Ⅲ）'!$C$35,"、"&'DB（Ⅲ）'!$B$35,""),IF('DB（Ⅲ）'!$C$35,'DB（Ⅲ）'!$B$35,"")) | D13: 2_4 | E13: =REPT(""&CHAR(10)&"",INT(LEN(#REF!)/18)+(LEN(#REF!)-LEN(SUBSTITUTE(#REF!,CHAR(10),"")))) -> #REF!
A14: Ⅲ_6 | B14: =IF('DB（Ⅲ）'!$C$38,'DB（Ⅲ）'!$B$38,"")&IF('DB（Ⅲ）'!$C$38,IF('DB（Ⅲ）'!$C$39,"、"&'DB（Ⅲ）'!$B$39,""),IF('DB（Ⅲ）'!$C$39,'DB（Ⅲ）'!$B$39,""))&IF(COUNTIF('DB（Ⅲ）'!$C$38:$C$39,TRUE)<>0,IF('DB（Ⅲ）'!$C$40,"、"&'DB（Ⅲ）'!$B$40,""),IF('DB（Ⅲ）'!$C$40,'DB（Ⅲ）'!$B$40,""))&IF(COUNTIF('DB（Ⅲ）'!$C$38:$C$40,TRUE)<>0,IF('DB（Ⅲ）'!$C$41,"、"&'DB（Ⅲ）'!$B$41,""),IF('DB（Ⅲ）'!$C$41,'DB（Ⅲ）'!$B$41,""))&IF(COUNTIF('DB（Ⅲ）'!$C$38:$C$41,TRUE)<>0,IF('DB（Ⅲ）'!$C$42,"、"&'DB（Ⅲ）'!$B$42,""),IF('DB（Ⅲ）'!$C$42,'DB（Ⅲ）'!$B$42,""))&IF(COUNTIF('DB（Ⅲ）'!$C$38:$C$42,TRUE)<>0,IF('DB（Ⅲ）'!$C$43,"、"&'DB（Ⅲ）'!$B$43,""),IF('DB（Ⅲ）'!$C$43,'DB（Ⅲ）'!$B$43,"")) | D14: 2_5 | E14: =REPT(""&CHAR(10)&"",INT(LEN(#REF!)/18)+(LEN(#REF!)-LEN(SUBSTITUTE(#REF!,CHAR(10),"")))) -> #REF! | H14: SymbolVisible
A15: Ⅲ_7 | B15: =IF('DB（Ⅲ）'!$C$46,'DB（Ⅲ）'!$B$46,"")&IF('DB（Ⅲ）'!$C$46,IF('DB（Ⅲ）'!$C$47,"、"&'DB（Ⅲ）'!$B$47,""),IF('DB（Ⅲ）'!$C$47,'DB（Ⅲ）'!$B$47,""))&IF(COUNTIF('DB（Ⅲ）'!$C$46:$C$47,TRUE)<>0,IF('DB（Ⅲ）'!$C$48,"、"&'DB（Ⅲ）'!$B$48,""),IF('DB（Ⅲ）'!$C$48,'DB（Ⅲ）'!$B$48,""))&IF(COUNTIF('DB（Ⅲ）'!$C$46:$C$48,TRUE)<>0,IF('DB（Ⅲ）'!$C$49,"、"&'DB（Ⅲ）'!$B$49,""),IF('DB（Ⅲ）'!$C$49,'DB（Ⅲ）'!$B$49,""))&IF(COUNTIF('DB（Ⅲ）'!$C$46:$C$49,TRUE)<>0,IF('DB（Ⅲ）'!$C$50,"、"&'DB（Ⅲ）'!$B$50,""),IF('DB（Ⅲ）'!$C$50,'DB（Ⅲ）'!$B$50,""))&IF(COUNTIF('DB（Ⅲ）'!$C$46:$C$50,TRUE)<>0,IF('DB（Ⅲ）'!$C$51,"、"&'DB（Ⅲ）'!$B$51,""),IF('DB（Ⅲ）'!$C$51,'DB（Ⅲ）'!$B$51,""))&IF(COUNTIF('DB（Ⅲ）'!$C$46:$C$51,TRUE)<>0,IF('DB（Ⅲ）'!$C$52,"、"&'DB（Ⅲ）'!$B$52,""),IF('DB（Ⅲ）'!$C$52,'DB（Ⅲ）'!$B$52,"")) | D15: 3 | E15: =REPT(""&CHAR(10)&"",INT(LEN(#REF!)/75)+(LEN(#REF!)-LEN(SUBSTITUTE(#REF!,CHAR(10),"")))) -> #REF! | H15: 推1 | I15: =IF('DB（Ⅱ）'!B3=FALSE,"",_xlfn.IFNA(VLOOKUP('DB（Ⅱ）'!C3,work!$A$3:$B$6,2,FALSE),"")) | J15: =IF('DB（Ⅱ）'!B3=FALSE,"",IF('DB（Ⅱ）'!F3,"●",""))
A16: Ⅲ_8 | B16: =IF('DB（Ⅲ）'!$C$55,'DB（Ⅲ）'!$B$55,"")&IF('DB（Ⅲ）'!$C$55,IF('DB（Ⅲ）'!$C$56,"、"&'DB（Ⅲ）'!$B$56,""),IF('DB（Ⅲ）'!$C$56,'DB（Ⅲ）'!$B$56,""))&IF(COUNTIF('DB（Ⅲ）'!$C$55:$C$56,TRUE)<>0,IF('DB（Ⅲ）'!$C$57,"、"&'DB（Ⅲ）'!$B$57,""),IF('DB（Ⅲ）'!$C$57,'DB（Ⅲ）'!$B$57,""))&IF(COUNTIF('DB（Ⅲ）'!$C$55:$C$57,TRUE)<>0,IF('DB（Ⅲ）'!$C$58,"、"&'DB（Ⅲ）'!$B$58,""),IF('DB（Ⅲ）'!$C$58,'DB（Ⅲ）'!$B$58,""))&IF(COUNTIF('DB（Ⅲ）'!$C$55:$C$58,TRUE)<>0,IF('DB（Ⅲ）'!$C$59,"、"&'DB（Ⅲ）'!$B$59,""),IF('DB（Ⅲ）'!$C$59,'DB（Ⅲ）'!$B$59,"")) | D16: 4 | E16: =REPT(""&CHAR(10)&"",INT(LEN(#REF!)/75)+(LEN(#REF!)-LEN(SUBSTITUTE(#REF!,CHAR(10),"")))) -> #REF! | H16: 推2 | I16: =IF('DB（Ⅱ）'!B4=FALSE,"",_xlfn.IFNA(VLOOKUP('DB（Ⅱ）'!C4,work!$A$3:$B$6,2,FALSE),"")) | J16: =IF('DB（Ⅱ）'!B4=FALSE,"",IF('DB（Ⅱ）'!F4,"●",""))
A17: Ⅲ_9 | B17: =IF('DB（Ⅲ）'!$C$62,'DB（Ⅲ）'!$B$62,"")&IF('DB（Ⅲ）'!$C$62,IF('DB（Ⅲ）'!$C$63,"、"&'DB（Ⅲ）'!$B$63,""),IF('DB（Ⅲ）'!$C$63,'DB（Ⅲ）'!$B$63,""))&IF(COUNTIF('DB（Ⅲ）'!$C$62:$C$63,TRUE)<>0,IF('DB（Ⅲ）'!$C$64,"、"&'DB（Ⅲ）'!$B$64,""),IF('DB（Ⅲ）'!$C$64,'DB（Ⅲ）'!$B$64,""))&IF(COUNTIF('DB（Ⅲ）'!$C$62:$C$64,TRUE)<>0,IF('DB（Ⅲ）'!$C$65,"、"&'DB（Ⅲ）'!$B$65,""),IF('DB（Ⅲ）'!$C$65,'DB（Ⅲ）'!$B$65,""))&IF(COUNTIF('DB（Ⅲ）'!$C$62:$C$65,TRUE)<>0,IF('DB（Ⅲ）'!$C$66,"、"&'DB（Ⅲ）'!$B$66,""),IF('DB（Ⅲ）'!$C$66,'DB（Ⅲ）'!$B$66,""))&IF(COUNTIF('DB（Ⅲ）'!$C$62:$C$66,TRUE)<>0,IF('DB（Ⅲ）'!$C$67,"、"&'DB（Ⅲ）'!$B$67,""),IF('DB（Ⅲ）'!$C$67,'DB（Ⅲ）'!$B$67,"")) | D17: 5_1 | E17: =REPT(""&CHAR(10)&"",INT(LEN(#REF!)/75)+(LEN(#REF!)-LEN(SUBSTITUTE(#REF!,CHAR(10),"")))) -> #REF! | H17: 推3 | I17: =IF('DB（Ⅱ）'!B5=FALSE,"",_xlfn.IFNA(VLOOKUP('DB（Ⅱ）'!C5,work!$A$3:$B$6,2,FALSE),"")) | J17: =IF('DB（Ⅱ）'!B5=FALSE,"",IF('DB（Ⅱ）'!F5,"●",""))
A18: Ⅲ_10 | B18: =IF('DB（Ⅲ）'!$C$70,'DB（Ⅲ）'!$B$70,"")&IF('DB（Ⅲ）'!$C$70,IF('DB（Ⅲ）'!$C$71,"、"&'DB（Ⅲ）'!$B$71,""),IF('DB（Ⅲ）'!$C$71,'DB（Ⅲ）'!$B$71,""))&IF(COUNTIF('DB（Ⅲ）'!$C$70:$C$71,TRUE)<>0,IF('DB（Ⅲ）'!$C$72,"、"&'DB（Ⅲ）'!$B$72,""),IF('DB（Ⅲ）'!$C$72,'DB（Ⅲ）'!$B$72,""))&IF(COUNTIF('DB（Ⅲ）'!$C$70:$C$72,TRUE)<>0,IF('DB（Ⅲ）'!$C$73,"、"&'DB（Ⅲ）'!$B$73,""),IF('DB（Ⅲ）'!$C$73,'DB（Ⅲ）'!$B$73,"")) | D18: 5_2 | E18: =REPT(""&CHAR(10)&"",INT(LEN(#REF!)/75)+(LEN(#REF!)-LEN(SUBSTITUTE(#REF!,CHAR(10),"")))) -> #REF! | H18: 選1 | I18: =IF('DB（Ⅱ）'!B6=FALSE,"",_xlfn.IFNA(VLOOKUP('DB（Ⅱ）'!C6,work!$A$3:$B$6,2,FALSE),"")) | J18: =IF('DB（Ⅱ）'!B6=FALSE,"",IF('DB（Ⅱ）'!F6,"●",""))
D19: 5_3 | E19: =REPT(""&CHAR(10)&"",INT(LEN(#REF!)/75)+(LEN(#REF!)-LEN(SUBSTITUTE(#REF!,CHAR(10),"")))) -> #REF! | H19: 選2 | I19: =IF('DB（Ⅱ）'!B7=FALSE,"",_xlfn.IFNA(VLOOKUP('DB（Ⅱ）'!C7,work!$A$3:$B$6,2,FALSE),"")) | J19: =IF('DB（Ⅱ）'!B7=FALSE,"",IF('DB（Ⅱ）'!F7,"●",""))
D20: 5_4 | E20: =REPT(""&CHAR(10)&"",INT(LEN(#REF!)/75)+(LEN(#REF!)-LEN(SUBSTITUTE(#REF!,CHAR(10),"")))) -> #REF! | H20: 選3 | I20: =IF('DB（Ⅱ）'!B8=FALSE,"",_xlfn.IFNA(VLOOKUP('DB（Ⅱ）'!C8,work!$A$3:$B$6,2,FALSE),"")) | J20: =IF('DB（Ⅱ）'!B8=FALSE,"",IF('DB（Ⅱ）'!F8,"●",""))
D21: 5_5 | E21: =REPT(""&CHAR(10)&"",INT(LEN(#REF!)/75)+(LEN(#REF!)-LEN(SUBSTITUTE(#REF!,CHAR(10),"")))) -> #REF! | H21: 選4 | I21: =IF('DB（Ⅱ）'!B9=FALSE,"",_xlfn.IFNA(VLOOKUP('DB（Ⅱ）'!C9,work!$A$3:$B$6,2,FALSE),"")) | J21: =IF('DB（Ⅱ）'!B9=FALSE,"",IF('DB（Ⅱ）'!F9,"●",""))
D22: 6 | E22: =REPT(""&CHAR(10)&"",INT(LEN(#REF!)/31)+(LEN(#REF!)-LEN(SUBSTITUTE(#REF!,CHAR(10),"")))) -> #REF! | H22: 選5 | I22: =IF('DB（Ⅱ）'!B10=FALSE,"",_xlfn.IFNA(VLOOKUP('DB（Ⅱ）'!C10,work!$A$3:$B$6,2,FALSE),"")) -> B | J22: =IF('DB（Ⅱ）'!B10=FALSE,"",IF('DB（Ⅱ）'!F10,"●",""))
D23: 7 | E23: =REPT(""&CHAR(10)&"",INT(LEN(#REF!)/75)+(LEN(#REF!)-LEN(SUBSTITUTE(#REF!,CHAR(10),"")))) -> #REF! | H23: 選6 | I23: =IF('DB（Ⅱ）'!B11=FALSE,"",_xlfn.IFNA(VLOOKUP('DB（Ⅱ）'!C11,work!$A$3:$B$6,2,FALSE),"")) | J23: =IF('DB（Ⅱ）'!B11=FALSE,"",IF('DB（Ⅱ）'!F11,"●",""))
D24: 8 | E24: =REPT(""&CHAR(10)&"",INT(LEN(#REF!)/75)+(LEN(#REF!)-LEN(SUBSTITUTE(#REF!,CHAR(10),"")))) -> #REF! | H24: 選7 | I24: =IF('DB（Ⅱ）'!B12=FALSE,"",_xlfn.IFNA(VLOOKUP('DB（Ⅱ）'!C12,work!$A$3:$B$6,2,FALSE),"")) | J24: =IF('DB（Ⅱ）'!B12=FALSE,"",IF('DB（Ⅱ）'!F12,"●",""))
D25: 9_1 | E25: =REPT(""&CHAR(10)&"",INT(LEN(#REF!)/75)+(LEN(#REF!)-LEN(SUBSTITUTE(#REF!,CHAR(10),"")))) -> #REF! | H25: 選8 | I25: =IF('DB（Ⅱ）'!B13=FALSE,"",_xlfn.IFNA(VLOOKUP('DB（Ⅱ）'!C13,work!$A$3:$B$6,2,FALSE),"")) | J25: =IF('DB（Ⅱ）'!B13=FALSE,"",IF('DB（Ⅱ）'!F13,"●",""))
D26: 9_2 | E26: =REPT(""&CHAR(10)&"",INT(LEN(#REF!)/68)+(LEN(#REF!)-LEN(SUBSTITUTE(#REF!,CHAR(10),"")))) -> #REF! | H26: 選9 | I26: =IF('DB（Ⅱ）'!B14=FALSE,"",_xlfn.IFNA(VLOOKUP('DB（Ⅱ）'!C14,work!$A$3:$B$6,2,FALSE),"")) | J26: =IF('DB（Ⅱ）'!B14=FALSE,"",IF('DB（Ⅱ）'!F14,"●",""))
D27: 10 | E27: =REPT(""&CHAR(10)&"",INT(LEN(#REF!)/68)+(LEN(#REF!)-LEN(SUBSTITUTE(#REF!,CHAR(10),"")))) -> #REF! | H27: 選10 | I27: =IF('DB（Ⅱ）'!B15=FALSE,"",_xlfn.IFNA(VLOOKUP('DB（Ⅱ）'!C15,work!$A$3:$B$6,2,FALSE),"")) | J27: =IF('DB（Ⅱ）'!B15=FALSE,"",IF('DB（Ⅱ）'!F15,"●",""))
D28: 12 | E28: =REPT(""&CHAR(10)&"",INT(LEN(#REF!)/75)+(LEN(#REF!)-LEN(SUBSTITUTE(#REF!,CHAR(10),"")))) -> #REF! | H28: 選11 | I28: =IF('DB（Ⅱ）'!B16=FALSE,"",_xlfn.IFNA(VLOOKUP('DB（Ⅱ）'!C16,work!$A$3:$B$6,2,FALSE),"")) | J28: =IF('DB（Ⅱ）'!B16=FALSE,"",IF('DB（Ⅱ）'!F16,"●",""))
D29: 13 | E29: =REPT(""&CHAR(10)&"",INT(LEN(#REF!)/75)+(LEN(#REF!)-LEN(SUBSTITUTE(#REF!,CHAR(10),"")))) -> #REF! | H29: 選12 | I29: =IF('DB（Ⅱ）'!B17=FALSE,"",_xlfn.IFNA(VLOOKUP('DB（Ⅱ）'!C17,work!$A$3:$B$6,2,FALSE),"")) | J29: =IF('DB（Ⅱ）'!B17=FALSE,"",IF('DB（Ⅱ）'!F17,"●",""))
D30: 14 | E30: =REPT(""&CHAR(10)&"",INT(LEN(#REF!)/75)+(LEN(#REF!)-LEN(SUBSTITUTE(#REF!,CHAR(10),"")))) -> #REF! | H30: 選13 | I30: =IF('DB（Ⅱ）'!B18=FALSE,"",_xlfn.IFNA(VLOOKUP('DB（Ⅱ）'!C18,work!$A$3:$B$6,2,FALSE),"")) | J30: =IF('DB（Ⅱ）'!B18=FALSE,"",IF('DB（Ⅱ）'!F18,"●",""))
D31: 15 | E31: =REPT(""&CHAR(10)&"",INT(LEN(#REF!)/75)+(LEN(#REF!)-LEN(SUBSTITUTE(#REF!,CHAR(10),"")))) -> #REF! | H31: 選14 | I31: =IF('DB（Ⅱ）'!B19=FALSE,"",_xlfn.IFNA(VLOOKUP('DB（Ⅱ）'!C19,work!$A$3:$B$6,2,FALSE),"")) | J31: =IF('DB（Ⅱ）'!B19=FALSE,"",IF('DB（Ⅱ）'!F19,"●",""))
D32: 16 | E32: =REPT(""&CHAR(10)&"",INT(LEN(#REF!)/75)+(LEN(#REF!)-LEN(SUBSTITUTE(#REF!,CHAR(10),"")))) -> #REF! | H32: 選15 | I32: =IF('DB（Ⅱ）'!B20=FALSE,"",_xlfn.IFNA(VLOOKUP('DB（Ⅱ）'!C20,work!$A$3:$B$6,2,FALSE),"")) | J32: =IF('DB（Ⅱ）'!B20=FALSE,"",IF('DB（Ⅱ）'!F20,"●",""))
D33: 17_1 | E33: =REPT(""&CHAR(10)&"",INT(LEN(#REF!)/28)+(LEN(#REF!)-LEN(SUBSTITUTE(#REF!,CHAR(10),"")))) -> #REF! | H33: 選16 | I33: =IF('DB（Ⅱ）'!B21=FALSE,"",_xlfn.IFNA(VLOOKUP('DB（Ⅱ）'!C21,work!$A$3:$B$6,2,FALSE),"")) | J33: =IF('DB（Ⅱ）'!B21=FALSE,"",IF('DB（Ⅱ）'!F21,"●",""))
D34: 17_2 | E34: =REPT(""&CHAR(10)&"",INT(LEN(#REF!)/28)+(LEN(#REF!)-LEN(SUBSTITUTE(#REF!,CHAR(10),"")))) -> #REF! | H34: 選17 | I34: =IF('DB（Ⅱ）'!B22=FALSE,"",_xlfn.IFNA(VLOOKUP('DB（Ⅱ）'!C22,work!$A$3:$B$6,2,FALSE),"")) | J34: =IF('DB（Ⅱ）'!B22=FALSE,"",IF('DB（Ⅱ）'!F22,"●",""))
D35: 17_3 | E35: =REPT(""&CHAR(10)&"",INT(LEN(#REF!)/75)+(LEN(#REF!)-LEN(SUBSTITUTE(#REF!,CHAR(10),"")))) -> #REF! | H35: 選18 | I35: =IF('DB（Ⅱ）'!B23=FALSE,"",_xlfn.IFNA(VLOOKUP('DB（Ⅱ）'!C23,work!$A$3:$B$6,2,FALSE),"")) | J35: =IF('DB（Ⅱ）'!B23=FALSE,"",IF('DB（Ⅱ）'!F23,"●",""))
D36: 19 | E36: =REPT(""&CHAR(10)&"",INT(LEN(#REF!)/75)+(LEN(#REF!)-LEN(SUBSTITUTE(#REF!,CHAR(10),"")))) -> #REF! | H36: 推4 | I36: =IF('DB（Ⅱ）'!B24=FALSE,"",_xlfn.IFNA(VLOOKUP('DB（Ⅱ）'!C24,work!$A$3:$B$6,2,FALSE),"")) | J36: =IF('DB（Ⅱ）'!B24=FALSE,"",IF('DB（Ⅱ）'!F24,"●",""))
D37: 21 | E37: =REPT(""&CHAR(10)&"",INT(LEN(#REF!)/14)+(LEN(#REF!)-LEN(SUBSTITUTE(#REF!,CHAR(10),"")))) -> #REF! | H37: 推5 | I37: =IF('DB（Ⅱ）'!B25=FALSE,"",_xlfn.IFNA(VLOOKUP('DB（Ⅱ）'!C25,work!$A$3:$B$6,2,FALSE),"")) | J37: =IF('DB（Ⅱ）'!B25=FALSE,"",IF('DB（Ⅱ）'!F25,"●",""))
D38: 22 | E38: =REPT(""&CHAR(10)&"",INT(LEN(#REF!)/68)+(LEN(#REF!)-LEN(SUBSTITUTE(#REF!,CHAR(10),"")))) -> #REF! | H38: 推6 | I38: =IF('DB（Ⅱ）'!B26=FALSE,"",_xlfn.IFNA(VLOOKUP('DB（Ⅱ）'!C26,work!$A$3:$B$6,2,FALSE),"")) | J38: =IF('DB（Ⅱ）'!B26=FALSE,"",IF('DB（Ⅱ）'!F26,"●",""))
D39: 23 | E39: =REPT(""&CHAR(10)&"",INT(LEN(#REF!)/75)+(LEN(#REF!)-LEN(SUBSTITUTE(#REF!,CHAR(10),"")))) -> #REF! | H39: 推7 | I39: =IF('DB（Ⅱ）'!B27=FALSE,"",_xlfn.IFNA(VLOOKUP('DB（Ⅱ）'!C27,work!$A$3:$B$6,2,FALSE),"")) | J39: =IF('DB（Ⅱ）'!B27=FALSE,"",IF('DB（Ⅱ）'!F27,"●",""))
D40: 24_1 | E40: =REPT(""&CHAR(10)&"",INT(LEN(#REF!)/40)+(LEN(#REF!)-LEN(SUBSTITUTE(#REF!,CHAR(10),"")))) -> #REF! | H40: 推8 | I40: =IF('DB（Ⅱ）'!B28=FALSE,"",_xlfn.IFNA(VLOOKUP('DB（Ⅱ）'!C28,work!$A$3:$B$6,2,FALSE),"")) | J40: =IF('DB（Ⅱ）'!B28=FALSE,"",IF('DB（Ⅱ）'!F28,"●",""))
D41: 24_2 | E41: =REPT(""&CHAR(10)&"",INT(LEN(#REF!)/68)+(LEN(#REF!)-LEN(SUBSTITUTE(#REF!,CHAR(10),"")))) -> #REF! | H41: 推9 | I41: =IF('DB（Ⅱ）'!B29=FALSE,"",_xlfn.IFNA(VLOOKUP('DB（Ⅱ）'!C29,work!$A$3:$B$6,2,FALSE),"")) | J41: =IF('DB（Ⅱ）'!B29=FALSE,"",IF('DB（Ⅱ）'!F29,"●",""))
D42: 25 | E42: =REPT(""&CHAR(10)&"",INT(LEN(#REF!)/75)+(LEN(#REF!)-LEN(SUBSTITUTE(#REF!,CHAR(10),"")))) -> #REF! | H42: 推10 | I42: =IF('DB（Ⅱ）'!B30=FALSE,"",_xlfn.IFNA(VLOOKUP('DB（Ⅱ）'!C30,work!$A$3:$B$6,2,FALSE),"")) | J42: =IF('DB（Ⅱ）'!B30=FALSE,"",IF('DB（Ⅱ）'!F30,"●",""))
D43: 26 | E43: =REPT(""&CHAR(10)&"",INT(LEN(#REF!)/75)+(LEN(#REF!)-LEN(SUBSTITUTE(#REF!,CHAR(10),"")))) -> #REF! | H43: 推11 | I43: =IF('DB（Ⅱ）'!B31=FALSE,"",_xlfn.IFNA(VLOOKUP('DB（Ⅱ）'!C31,work!$A$3:$B$6,2,FALSE),"")) | J43: =IF('DB（Ⅱ）'!B31=FALSE,"",IF('DB（Ⅱ）'!F31,"●",""))
D44: 27 | E44: =REPT(""&CHAR(10)&"",INT(LEN(#REF!)/75)+(LEN(#REF!)-LEN(SUBSTITUTE(#REF!,CHAR(10),"")))) -> #REF! | H44: 選19 | I44: =IF('DB（Ⅱ）'!B32=FALSE,"",_xlfn.IFNA(VLOOKUP('DB（Ⅱ）'!C32,work!$A$3:$B$6,2,FALSE),"")) | J44: =IF('DB（Ⅱ）'!B32=FALSE,"",IF('DB（Ⅱ）'!F32,"●",""))
D45: 28 | E45: =REPT(""&CHAR(10)&"",INT(LEN(#REF!)/70)+(LEN(#REF!)-LEN(SUBSTITUTE(#REF!,CHAR(10),"")))) -> #REF! | H45: 選20 | I45: =IF('DB（Ⅱ）'!B33=FALSE,"",_xlfn.IFNA(VLOOKUP('DB（Ⅱ）'!C33,work!$A$3:$B$6,2,FALSE),"")) | J45: =IF('DB（Ⅱ）'!B33=FALSE,"",IF('DB（Ⅱ）'!F33,"●",""))
D46: 29 | E46: =REPT(""&CHAR(10)&"",INT(LEN(#REF!)/70)+(LEN(#REF!)-LEN(SUBSTITUTE(#REF!,CHAR(10),"")))) -> #REF! | H46: 選21 | I46: =IF('DB（Ⅱ）'!B34=FALSE,"",_xlfn.IFNA(VLOOKUP('DB（Ⅱ）'!C34,work!$A$3:$B$6,2,FALSE),"")) | J46: =IF('DB（Ⅱ）'!B34=FALSE,"",IF('DB（Ⅱ）'!F34,"●",""))
D47: 30 | E47: =REPT(""&CHAR(10)&"",INT(LEN(#REF!)/53)+(LEN(#REF!)-LEN(SUBSTITUTE(#REF!,CHAR(10),"")))) -> #REF! | H47: 選22 | I47: =IF('DB（Ⅱ）'!B35=FALSE,"",_xlfn.IFNA(VLOOKUP('DB（Ⅱ）'!C35,work!$A$3:$B$6,2,FALSE),"")) | J47: =IF('DB（Ⅱ）'!B35=FALSE,"",IF('DB（Ⅱ）'!F35,"●",""))
D48: 31 | E48: =REPT(""&CHAR(10)&"",INT(LEN(#REF!)/70)+(LEN(#REF!)-LEN(SUBSTITUTE(#REF!,CHAR(10),"")))) -> #REF! | H48: 選23 | I48: =IF('DB（Ⅱ）'!B36=FALSE,"",_xlfn.IFNA(VLOOKUP('DB（Ⅱ）'!C36,work!$A$3:$B$6,2,FALSE),"")) | J48: =IF('DB（Ⅱ）'!B36=FALSE,"",IF('DB（Ⅱ）'!F36,"●",""))
D49: 32 | E49: =REPT(""&CHAR(10)&"",INT(LEN(#REF!)/70)+(LEN(#REF!)-LEN(SUBSTITUTE(#REF!,CHAR(10),"")))) -> #REF! | H49: 選24 | I49: =IF('DB（Ⅱ）'!B37=FALSE,"",_xlfn.IFNA(VLOOKUP('DB（Ⅱ）'!C37,work!$A$3:$B$6,2,FALSE),"")) | J49: =IF('DB（Ⅱ）'!B37=FALSE,"",IF('DB（Ⅱ）'!F37,"●",""))
D50: 33 | E50: =REPT(""&CHAR(10)&"",INT(LEN(#REF!)/70)+(LEN(#REF!)-LEN(SUBSTITUTE(#REF!,CHAR(10),"")))) -> #REF! | H50: 推12 | I50: =IF('DB（Ⅱ）'!B38=FALSE,"",_xlfn.IFNA(VLOOKUP('DB（Ⅱ）'!C38,work!$A$3:$B$6,2,FALSE),"")) | J50: =IF('DB（Ⅱ）'!B38=FALSE,"",IF('DB（Ⅱ）'!F38,"●",""))
D51: 備考 | E51: =REPT(""&CHAR(10)&"",INT(LEN(#REF!)/82)+(LEN(#REF!)-LEN(SUBSTITUTE(#REF!,CHAR(10),"")))) -> #REF! | H51: 推13 | I51: =IF('DB（Ⅱ）'!B39=FALSE,"",_xlfn.IFNA(VLOOKUP('DB（Ⅱ）'!C39,work!$A$3:$B$6,2,FALSE),"")) | J51: =IF('DB（Ⅱ）'!B39=FALSE,"",IF('DB（Ⅱ）'!F39,"●",""))
D52: ⑤Ⅱ_就労のための基本的事項（評価用）'! | H52: 推14 | I52: =IF('DB（Ⅱ）'!B40=FALSE,"",_xlfn.IFNA(VLOOKUP('DB（Ⅱ）'!C40,work!$A$3:$B$6,2,FALSE),"")) | J52: =IF('DB（Ⅱ）'!B40=FALSE,"",IF('DB（Ⅱ）'!F40,"●",""))
D53: 推1_1 | E53: =REPT(""&CHAR(10)&"",INT(LEN('⑤Ⅱ_就労のための基本的事項（評価用）'!G26)/58)+(LEN('⑤Ⅱ_就労のための基本的事項（評価用）'!G26)-LEN(SUBSTITUTE('⑤Ⅱ_就労のための基本的事項（評価用）'!G26,CHAR(10),"")))) | H53: 推15 | I53: =IF('DB（Ⅱ）'!B41=FALSE,"",_xlfn.IFNA(VLOOKUP('DB（Ⅱ）'!C41,work!$A$3:$B$6,2,FALSE),"")) | J53: =IF('DB（Ⅱ）'!B41=FALSE,"",IF('DB（Ⅱ）'!F41,"●",""))
D54: 推1_2 | E54: =REPT(""&CHAR(10)&"",INT(LEN('⑤Ⅱ_就労のための基本的事項（評価用）'!G30)/58)+(LEN('⑤Ⅱ_就労のための基本的事項（評価用）'!G30)-LEN(SUBSTITUTE('⑤Ⅱ_就労のための基本的事項（評価用）'!G30,CHAR(10),"")))) | H54: 推16 | I54: =IF('DB（Ⅱ）'!B42=FALSE,"",_xlfn.IFNA(VLOOKUP('DB（Ⅱ）'!C42,work!$A$3:$B$6,2,FALSE),"")) | J54: =IF('DB（Ⅱ）'!B42=FALSE,"",IF('DB（Ⅱ）'!F42,"●",""))
D55: 推1_3 | E55: =REPT(""&CHAR(10)&"",INT(LEN('⑤Ⅱ_就労のための基本的事項（評価用）'!G34)/58)+(LEN('⑤Ⅱ_就労のための基本的事項（評価用）'!G34)-LEN(SUBSTITUTE('⑤Ⅱ_就労のための基本的事項（評価用）'!G34,CHAR(10),"")))) | H55: 推17 | I55: =IF('DB（Ⅱ）'!B43=FALSE,"",_xlfn.IFNA(VLOOKUP('DB（Ⅱ）'!C43,work!$A$3:$B$6,2,FALSE),"")) | J55: =IF('DB（Ⅱ）'!B43=FALSE,"",IF('DB（Ⅱ）'!F43,"●",""))
D56: 推2_1 | E56: =REPT(""&CHAR(10)&"",INT(LEN('⑤Ⅱ_就労のための基本的事項（評価用）'!#REF!)/58)+(LEN('⑤Ⅱ_就労のための基本的事項（評価用）'!#REF!)-LEN(SUBSTITUTE('⑤Ⅱ_就労のための基本的事項（評価用）'!#REF!,CHAR(10),"")))) -> #REF! | H56: 選25 | I56: =IF('DB（Ⅱ）'!B44=FALSE,"",_xlfn.IFNA(VLOOKUP('DB（Ⅱ）'!C44,work!$A$3:$B$6,2,FALSE),"")) | J56: =IF('DB（Ⅱ）'!B44=FALSE,"",IF('DB（Ⅱ）'!F44,"●",""))
D57: 推2_2 | E57: =REPT(""&CHAR(10)&"",INT(LEN('⑤Ⅱ_就労のための基本的事項（評価用）'!#REF!)/58)+(LEN('⑤Ⅱ_就労のための基本的事項（評価用）'!#REF!)-LEN(SUBSTITUTE('⑤Ⅱ_就労のための基本的事項（評価用）'!#REF!,CHAR(10),"")))) -> #REF! | H57: 選26 | I57: =IF('DB（Ⅱ）'!B45=FALSE,"",_xlfn.IFNA(VLOOKUP('DB（Ⅱ）'!C45,work!$A$3:$B$6,2,FALSE),"")) | J57: =IF('DB（Ⅱ）'!B45=FALSE,"",IF('DB（Ⅱ）'!F45,"●",""))
D58: 推2_3 | E58: =REPT(""&CHAR(10)&"",INT(LEN('⑤Ⅱ_就労のための基本的事項（評価用）'!#REF!)/58)+(LEN('⑤Ⅱ_就労のための基本的事項（評価用）'!#REF!)-LEN(SUBSTITUTE('⑤Ⅱ_就労のための基本的事項（評価用）'!#REF!,CHAR(10),"")))) -> #REF! | H58: 選27 | I58: =IF('DB（Ⅱ）'!B46=FALSE,"",_xlfn.IFNA(VLOOKUP('DB（Ⅱ）'!C46,work!$A$3:$B$6,2,FALSE),"")) | J58: =IF('DB（Ⅱ）'!B46=FALSE,"",IF('DB（Ⅱ）'!F46,"●",""))
D59: 推3_1 | E59: =REPT(""&CHAR(10)&"",INT(LEN('⑤Ⅱ_就労のための基本的事項（評価用）'!#REF!)/58)+(LEN('⑤Ⅱ_就労のための基本的事項（評価用）'!#REF!)-LEN(SUBSTITUTE('⑤Ⅱ_就労のための基本的事項（評価用）'!#REF!,CHAR(10),"")))) -> #REF!
D60: 推3_2 | E60: =REPT(""&CHAR(10)&"",INT(LEN('⑤Ⅱ_就労のための基本的事項（評価用）'!#REF!)/58)+(LEN('⑤Ⅱ_就労のための基本的事項（評価用）'!#REF!)-LEN(SUBSTITUTE('⑤Ⅱ_就労のための基本的事項（評価用）'!#REF!,CHAR(10),"")))) -> #REF!
D61: 推3_3 | E61: =REPT(""&CHAR(10)&"",INT(LEN('⑤Ⅱ_就労のための基本的事項（評価用）'!#REF!)/58)+(LEN('⑤Ⅱ_就労のための基本的事項（評価用）'!#REF!)-LEN(SUBSTITUTE('⑤Ⅱ_就労のための基本的事項（評価用）'!#REF!,CHAR(10),"")))) -> #REF!
D62: 選1_1 | E62: =REPT(""&CHAR(10)&"",INT(LEN('⑤Ⅱ_就労のための基本的事項（評価用）'!#REF!)/58)+(LEN('⑤Ⅱ_就労のための基本的事項（評価用）'!#REF!)-LEN(SUBSTITUTE('⑤Ⅱ_就労のための基本的事項（評価用）'!#REF!,CHAR(10),"")))) -> #REF!
D63: 選1_2 | E63: =REPT(""&CHAR(10)&"",INT(LEN('⑤Ⅱ_就労のための基本的事項（評価用）'!#REF!)/58)+(LEN('⑤Ⅱ_就労のための基本的事項（評価用）'!#REF!)-LEN(SUBSTITUTE('⑤Ⅱ_就労のための基本的事項（評価用）'!#REF!,CHAR(10),"")))) -> #REF!
D64: 選1_3 | E64: =REPT(""&CHAR(10)&"",INT(LEN('⑤Ⅱ_就労のための基本的事項（評価用）'!#REF!)/58)+(LEN('⑤Ⅱ_就労のための基本的事項（評価用）'!#REF!)-LEN(SUBSTITUTE('⑤Ⅱ_就労のための基本的事項（評価用）'!#REF!,CHAR(10),"")))) -> #REF!
D65: 選2_1 | E65: =REPT(""&CHAR(10)&"",INT(LEN('⑤Ⅱ_就労のための基本的事項（評価用）'!#REF!)/58)+(LEN('⑤Ⅱ_就労のための基本的事項（評価用）'!#REF!)-LEN(SUBSTITUTE('⑤Ⅱ_就労のための基本的事項（評価用）'!#REF!,CHAR(10),"")))) -> #REF!
D66: 選2_2 | E66: =REPT(""&CHAR(10)&"",INT(LEN('⑤Ⅱ_就労のための基本的事項（評価用）'!#REF!)/58)+(LEN('⑤Ⅱ_就労のための基本的事項（評価用）'!#REF!)-LEN(SUBSTITUTE('⑤Ⅱ_就労のための基本的事項（評価用）'!#REF!,CHAR(10),"")))) -> #REF!
D67: 選2_3 | E67: =REPT(""&CHAR(10)&"",INT(LEN('⑤Ⅱ_就労のための基本的事項（評価用）'!#REF!)/58)+(LEN('⑤Ⅱ_就労のための基本的事項（評価用）'!#REF!)-LEN(SUBSTITUTE('⑤Ⅱ_就労のための基本的事項（評価用）'!#REF!,CHAR(10),"")))) -> #REF!
D68: 選3_1 | E68: =REPT(""&CHAR(10)&"",INT(LEN('⑤Ⅱ_就労のための基本的事項（評価用）'!#REF!)/58)+(LEN('⑤Ⅱ_就労のための基本的事項（評価用）'!#REF!)-LEN(SUBSTITUTE('⑤Ⅱ_就労のための基本的事項（評価用）'!#REF!,CHAR(10),"")))) -> #REF!
D69: 選3_2 | E69: =REPT(""&CHAR(10)&"",INT(LEN('⑤Ⅱ_就労のための基本的事項（評価用）'!#REF!)/58)+(LEN('⑤Ⅱ_就労のための基本的事項（評価用）'!#REF!)-LEN(SUBSTITUTE('⑤Ⅱ_就労のための基本的事項（評価用）'!#REF!,CHAR(10),"")))) -> #REF!
D70: 選3_3 | E70: =REPT(""&CHAR(10)&"",INT(LEN('⑤Ⅱ_就労のための基本的事項（評価用）'!#REF!)/58)+(LEN('⑤Ⅱ_就労のための基本的事項（評価用）'!#REF!)-LEN(SUBSTITUTE('⑤Ⅱ_就労のための基本的事項（評価用）'!#REF!,CHAR(10),"")))) -> #REF!
... D76: 選5_3 | E76: =REPT(""&CHAR(10)&"",INT(LEN('⑤Ⅱ_就労のための基本的事項（評価用）'!#REF!)/58)+(LEN('⑤Ⅱ_就労のための基本的事項（評価用）'!#REF!)-LEN(SUBSTITUTE('⑤Ⅱ_就労のための基本的事項（評価用）'!#REF!,CHAR(10),"")))) -> #REF!
D77: 選6_1 | E77: =REPT(""&CHAR(10)&"",INT(LEN('⑤Ⅱ_就労のための基本的事項（評価用）'!G55)/58)+(LEN('⑤Ⅱ_就労のための基本的事項（評価用）'!G55)-LEN(SUBSTITUTE('⑤Ⅱ_就労のための基本的事項（評価用）'!G55,CHAR(10),""))))
D78: 選6_2 | E78: =REPT(""&CHAR(10)&"",INT(LEN('⑤Ⅱ_就労のための基本的事項（評価用）'!G59)/58)+(LEN('⑤Ⅱ_就労のための基本的事項（評価用）'!G59)-LEN(SUBSTITUTE('⑤Ⅱ_就労のための基本的事項（評価用）'!G59,CHAR(10),""))))
D79: 選6_3 | E79: =REPT(""&CHAR(10)&"",INT(LEN('⑤Ⅱ_就労のための基本的事項（評価用）'!G63)/58)+(LEN('⑤Ⅱ_就労のための基本的事項（評価用）'!G63)-LEN(SUBSTITUTE('⑤Ⅱ_就労のための基本的事項（評価用）'!G63,CHAR(10),""))))
D80: 選7_1 | E80: =REPT(""&CHAR(10)&"",INT(LEN('⑤Ⅱ_就労のための基本的事項（評価用）'!G83)/58)+(LEN('⑤Ⅱ_就労のための基本的事項（評価用）'!G83)-LEN(SUBSTITUTE('⑤Ⅱ_就労のための基本的事項（評価用）'!G83,CHAR(10),""))))
D81: 選7_2 | E81: =REPT(""&CHAR(10)&"",INT(LEN('⑤Ⅱ_就労のための基本的事項（評価用）'!G87)/58)+(LEN('⑤Ⅱ_就労のための基本的事項（評価用）'!G87)-LEN(SUBSTITUTE('⑤Ⅱ_就労のための基本的事項（評価用）'!G87,CHAR(10),""))))
D82: 選7_3 | E82: =REPT(""&CHAR(10)&"",INT(LEN('⑤Ⅱ_就労のための基本的事項（評価用）'!G91)/58)+(LEN('⑤Ⅱ_就労のための基本的事項（評価用）'!G91)-LEN(SUBSTITUTE('⑤Ⅱ_就労のための基本的事項（評価用）'!G91,CHAR(10),""))))
D83: 選8_1 | E83: =REPT(""&CHAR(10)&"",INT(LEN('⑤Ⅱ_就労のための基本的事項（評価用）'!#REF!)/58)+(LEN('⑤Ⅱ_就労のための基本的事項（評価用）'!#REF!)-LEN(SUBSTITUTE('⑤Ⅱ_就労のための基本的事項（評価用）'!#REF!,CHAR(10),"")))) -> #REF!
D84: 選8_2 | E84: =REPT(""&CHAR(10)&"",INT(LEN('⑤Ⅱ_就労のための基本的事項（評価用）'!#REF!)/58)+(LEN('⑤Ⅱ_就労のための基本的事項（評価用）'!#REF!)-LEN(SUBSTITUTE('⑤Ⅱ_就労のための基本的事項（評価用）'!#REF!,CHAR(10),"")))) -> #REF!
D85: 選8_3 | E85: =REPT(""&CHAR(10)&"",INT(LEN('⑤Ⅱ_就労のための基本的事項（評価用）'!#REF!)/58)+(LEN('⑤Ⅱ_就労のための基本的事項（評価用）'!#REF!)-LEN(SUBSTITUTE('⑤Ⅱ_就労のための基本的事項（評価用）'!#REF!,CHAR(10),"")))) -> #REF!
D86: 選9_1 | E86: =REPT(""&CHAR(10)&"",INT(LEN('⑤Ⅱ_就労のための基本的事項（評価用）'!#REF!)/58)+(LEN('⑤Ⅱ_就労のための基本的事項（評価用）'!#REF!)-LEN(SUBSTITUTE('⑤Ⅱ_就労のための基本的事項（評価用）'!#REF!,CHAR(10),"")))) -> #REF!
D87: 選9_2 | E87: =REPT(""&CHAR(10)&"",INT(LEN('⑤Ⅱ_就労のための基本的事項（評価用）'!#REF!)/58)+(LEN('⑤Ⅱ_就労のための基本的事項（評価用）'!#REF!)-LEN(SUBSTITUTE('⑤Ⅱ_就労のための基本的事項（評価用）'!#REF!,CHAR(10),"")))) -> #REF!
D88: 選9_3 | E88: =REPT(""&CHAR(10)&"",INT(LEN('⑤Ⅱ_就労のための基本的事項（評価用）'!#REF!)/58)+(LEN('⑤Ⅱ_就労のための基本的事項（評価用）'!#REF!)-LEN(SUBSTITUTE('⑤Ⅱ_就労のための基本的事項（評価用）'!#REF!,CHAR(10),"")))) -> #REF!
D89: 選10_1 | E89: =REPT(""&CHAR(10)&"",INT(LEN('⑤Ⅱ_就労のための基本的事項（評価用）'!#REF!)/58)+(LEN('⑤Ⅱ_就労のための基本的事項（評価用）'!#REF!)-LEN(SUBSTITUTE('⑤Ⅱ_就労のための基本的事項（評価用）'!#REF!,CHAR(10),"")))) -> #REF!
D90: 選10_2 | E90: =REPT(""&CHAR(10)&"",INT(LEN('⑤Ⅱ_就労のための基本的事項（評価用）'!#REF!)/58)+(LEN('⑤Ⅱ_就労のための基本的事項（評価用）'!#REF!)-LEN(SUBSTITUTE('⑤Ⅱ_就労のための基本的事項（評価用）'!#REF!,CHAR(10),"")))) -> #REF!
D91: 選10_3 | E91: =REPT(""&CHAR(10)&"",INT(LEN('⑤Ⅱ_就労のための基本的事項（評価用）'!#REF!)/58)+(LEN('⑤Ⅱ_就労のための基本的事項（評価用）'!#REF!)-LEN(SUBSTITUTE('⑤Ⅱ_就労のための基本的事項（評価用）'!#REF!,CHAR(10),"")))) -> #REF!
D92: 選11_1 | E92: =REPT(""&CHAR(10)&"",INT(LEN('⑤Ⅱ_就労のための基本的事項（評価用）'!#REF!)/58)+(LEN('⑤Ⅱ_就労のための基本的事項（評価用）'!#REF!)-LEN(SUBSTITUTE('⑤Ⅱ_就労のための基本的事項（評価用）'!#REF!,CHAR(10),"")))) -> #REF!
D93: 選11_2 | E93: =REPT(""&CHAR(10)&"",INT(LEN('⑤Ⅱ_就労のための基本的事項（評価用）'!#REF!)/58)+(LEN('⑤Ⅱ_就労のための基本的事項（評価用）'!#REF!)-LEN(SUBSTITUTE('⑤Ⅱ_就労のための基本的事項（評価用）'!#REF!,CHAR(10),"")))) -> #REF!
D94: 選11_3 | E94: =REPT(""&CHAR(10)&"",INT(LEN('⑤Ⅱ_就労のための基本的事項（評価用）'!#REF!)/58)+(LEN('⑤Ⅱ_就労のための基本的事項（評価用）'!#REF!)-LEN(SUBSTITUTE('⑤Ⅱ_就労のための基本的事項（評価用）'!#REF!,CHAR(10),"")))) -> #REF!
... D109: 選16_3 | E109: =REPT(""&CHAR(10)&"",INT(LEN('⑤Ⅱ_就労のための基本的事項（評価用）'!#REF!)/58)+(LEN('⑤Ⅱ_就労のための基本的事項（評価用）'!#REF!)-LEN(SUBSTITUTE('⑤Ⅱ_就労のための基本的事項（評価用）'!#REF!,CHAR(10),"")))) -> #REF!
D110: 選17_1 | E110: =REPT(""&CHAR(10)&"",INT(LEN('⑤Ⅱ_就労のための基本的事項（評価用）'!G111)/58)+(LEN('⑤Ⅱ_就労のための基本的事項（評価用）'!G111)-LEN(SUBSTITUTE('⑤Ⅱ_就労のための基本的事項（評価用）'!G111,CHAR(10),""))))
D111: 選17_2 | E111: =REPT(""&CHAR(10)&"",INT(LEN('⑤Ⅱ_就労のための基本的事項（評価用）'!G115)/58)+(LEN('⑤Ⅱ_就労のための基本的事項（評価用）'!G115)-LEN(SUBSTITUTE('⑤Ⅱ_就労のための基本的事項（評価用）'!G115,CHAR(10),""))))
D112: 選17_3 | E112: =REPT(""&CHAR(10)&"",INT(LEN('⑤Ⅱ_就労のための基本的事項（評価用）'!G119)/58)+(LEN('⑤Ⅱ_就労のための基本的事項（評価用）'!G119)-LEN(SUBSTITUTE('⑤Ⅱ_就労のための基本的事項（評価用）'!G119,CHAR(10),""))))
D113: 選18_1 | E113: =REPT(""&CHAR(10)&"",INT(LEN('⑤Ⅱ_就労のための基本的事項（評価用）'!#REF!)/58)+(LEN('⑤Ⅱ_就労のための基本的事項（評価用）'!#REF!)-LEN(SUBSTITUTE('⑤Ⅱ_就労のための基本的事項（評価用）'!#REF!,CHAR(10),"")))) -> #REF!
D114: 選18_2 | E114: =REPT(""&CHAR(10)&"",INT(LEN('⑤Ⅱ_就労のための基本的事項（評価用）'!#REF!)/58)+(LEN('⑤Ⅱ_就労のための基本的事項（評価用）'!#REF!)-LEN(SUBSTITUTE('⑤Ⅱ_就労のための基本的事項（評価用）'!#REF!,CHAR(10),"")))) -> #REF!
D115: 選18_3 | E115: =REPT(""&CHAR(10)&"",INT(LEN('⑤Ⅱ_就労のための基本的事項（評価用）'!#REF!)/58)+(LEN('⑤Ⅱ_就労のための基本的事項（評価用）'!#REF!)-LEN(SUBSTITUTE('⑤Ⅱ_就労のための基本的事項（評価用）'!#REF!,CHAR(10),"")))) -> #REF!
D116: 推4_1 | E116: =REPT(""&CHAR(10)&"",INT(LEN('⑤Ⅱ_就労のための基本的事項（評価用）'!#REF!)/58)+(LEN('⑤Ⅱ_就労のための基本的事項（評価用）'!#REF!)-LEN(SUBSTITUTE('⑤Ⅱ_就労のための基本的事項（評価用）'!#REF!,CHAR(10),"")))) -> #REF!
D117: 推4_2 | E117: =REPT(""&CHAR(10)&"",INT(LEN('⑤Ⅱ_就労のための基本的事項（評価用）'!#REF!)/58)+(LEN('⑤Ⅱ_就労のための基本的事項（評価用）'!#REF!)-LEN(SUBSTITUTE('⑤Ⅱ_就労のための基本的事項（評価用）'!#REF!,CHAR(10),"")))) -> #REF!
D118: 推4_3 | E118: =REPT(""&CHAR(10)&"",INT(LEN('⑤Ⅱ_就労のための基本的事項（評価用）'!#REF!)/58)+(LEN('⑤Ⅱ_就労のための基本的事項（評価用）'!#REF!)-LEN(SUBSTITUTE('⑤Ⅱ_就労のための基本的事項（評価用）'!#REF!,CHAR(10),"")))) -> #REF!
D119: 推5_1 | E119: =REPT(""&CHAR(10)&"",INT(LEN('⑤Ⅱ_就労のための基本的事項（評価用）'!#REF!)/58)+(LEN('⑤Ⅱ_就労のための基本的事項（評価用）'!#REF!)-LEN(SUBSTITUTE('⑤Ⅱ_就労のための基本的事項（評価用）'!#REF!,CHAR(10),"")))) -> #REF!
...
